Workbook

Sheet 19;00
B1: Naam | C1: Man/vrouw | D1: Geboortedatum | E1: Startnummer | F1: Ronden | G1: Restmeters | H1: Totaal
A3: 1 | B3: Reinier Bisschop | C3: M | D3: 40769 | E3: 79 | F3: 3 | G3: 147 | H3: =F3*400+G3 -> 1347
A4: 1 | B4: Tygo Boertien | C4: M | D4: 38698 | E4: 160 | F4: 2 | G4: 36 | H4: =F4*400+G4 -> 836
A5: 1 | B5: Anne-Sophie Veldman | C5: V | D5: 43663 | E5: 68 | F5: 2 | G5: 363 | H5: =F5*400+G5 -> 1163
A6: 1 | B6: Andre van der Tas | C6: M | D6: 43100 | E6: 749 | F6: 2 | G6: 212 | H6: =F6*400+G6 -> 1012
A7: 1 | B7: Naomie Winkels | C7: V | D7: 36506 | E7: 81 | F7: 2 | G7: 361 | H7: =F7*400+G7 -> 1161
A8: 1 | B8: Vlat Bezghinova | C8: M | D8: 40038 | E8: 73 | F8: 3 | G8: 214 | H8: =F8*400+G8 -> 1414
A9: 1 | B9: Fedde de Ridder | C9: M | D9: 41894 | E9: 499 | F9: 2 | G9: 224 | H9: =F9*400+G9 -> 1024
A10: 1 | B10: Hugo Jonker | C10: M | D10: 42270 | E10: 362 | F10: 3 | G10: 147 | H10: =F10*400+G10 -> 1347
A11: 1 | B11: Floris Jonker | C11: M | D11: 43568 | E11: 238 | F11: 3 | G11: 81 | H11: =F11*400+G11 -> 1281
A12: 1 | B12: Imro van der Hof | C12: M | D12: 43541 | E12: 711 | F12: 3 | G12: 108 | H12: =F12*400+G12 -> 1308
A13: 1 | B13: Ewan van der Hof | C13: M | D13: 43541 | E13: 710 | F13: 2 | G13: 367 | H13: =F13*400+G13 -> 1167
A14: 1 | B14: Jidde van der Hof | C14: M | D14: 42535 | E14: 728 | F14: 3 | G14: 221 | H14: =F14*400+G14 -> 1421
H15: =F15*400+G15 -> 0
A16: =SUM(A3:A15) -> 12 | H16: =F16*400+G16 -> 0
H18: =SUM(H3:H16) -> 14481 | I18: Totaal gelopen meters 19.00 uur
H20: =A16 -> 12 | I20: Aantal deelnemers
H22: =H18/12 -> 1206.75 | I22: Gemiddeld per deelnemer

Sheet 19;30
B1: Naam | C1: Man/vrouw | D1: Geboortedatum | E1: Startnummer | F1: Ronden | G1: Restmeters | H1: Totaal
A3: 1 | B3: Manon Vos | C3: V | D3: 25724 | E3: 74 | F3: 5 | G3: 251 | H3: =F3*400+G3 -> 2251
A4: 1 | B4: Trijnie Steenbergen | C4: V | D4: 25638 | E4: 64 | F4: 5 | G4: 249 | H4: =F4*400+G4 -> 2249
A5: 1 | B5: Nicol Siebelink | C5: V | D5: 34551 | E5: 135 | F5: 5 | G5: 86 | H5: =F5*400+G5 -> 2086
A6: 1 | B6: Patty Snijder | C6: V | D6: 36712 | E6: 299 | F6: 3 | G6: 245 | H6: =F6*400+G6 -> 1445
A7: 1 | B7: Julian Jonker | C7: M | D7: 41360 | E7: 678 | F7: 6 | G7: 93 | H7: =F7*400+G7 -> 2493
A8: 1 | B8: Jeannette Vonck | C8: V | D8: 20986 | E8: 717 | F8: 5 | G8: 200 | H8: =F8*400+G8 -> 2200
A9: 1 | B9: Benjamin Doezeman | C9: M | D9: 45624 | E9: 487 | F9: 4 | G9: 212 | H9: =F9*400+G9 -> 1812
A10: 1 | B10: Naud Kohl | C10: M | D10: 41831 | E10: 594 | F10: 6 | G10: 128 | H10: =F10*400+G10 -> 2528
A11: 1 | B11: Beer Kodden | C11: M | D11: 41830 | E11: 626 | F11: 5 | G11: 389 | H11: =F11*400+G11 -> 2389
A12: 1 | B12: Jeaden Sibon | C12: M | D12: 41752 | E12: 304 | F12: 5 | G12: 254 | H12: =F12*400+G12 -> 2254
A13: 1 | B13: Nora Dijkstar | C13: V | D13: 41919 | E13: 349 | F13: 5 | G13: 312 | H13: =F13*400+G13 -> 2312
A14: 1 | B14: Nora Knapper | C14: V | D14: 41991 | E14: 156 | F14: 4 | G14: 240 | H14: =F14*400+G14 -> 1840
... A32: 1 | B32: Elliette Gruppen | C32: M | D32: 30663 | E32: 725 | F32: 6 | G32: 9 | H32: =F32*400+G32 -> 2409
A33: 1 | B33: Anita Stevens | C33: V | E33: 715 | F33: 5 | G33: 339 | H33: =F33*400+G33 -> 2339
A34: 1 | B34: Hanneke Knol | C34: V | D34: 38485 | E34: 150 | F34: 6 | G34: 181 | H34: =F34*400+G34 -> 2581
A36: =SUM(A3:A34) -> 32 | H36: =SUM(H3:H34) -> 73770 | I36: Totaal gelopen meters 19.30 uur
H38: =A36 -> 32 | I38: Aantal deelnemers
H40: =H36/H38 -> 2305.3125 | I40: Gemiddeld per deelnemer

Sheet 20;00
B1: Naam | C1: Man/vrouw | D1: Geboortedatum | E1: Startnummer | F1: Ronden | G1: Restmeters | H1: Totaal
A3: 1 | B3: Berry Klomp | C3: M | D3: 34455 | E3: 72 | F3: 6 | G3: 291 | H3: =F3*400+G3 -> 2691
A4: 1 | B4: Lieke Vredeveld | E4: 70 | F4: 7 | G4: 12 | H4: =F4*400+G4 -> 2812
A5: 1 | B5: Ilse Hagendoorn | E5: 67 | F5: 6 | G5: 0 | H5: =F5*400+G5 -> 2400
A6: 1 | B6: Tara Benjamins | E6: 493 | F6: 7 | G6: 32 | H6: =F6*400+G6 -> 2832
A7: 1 | B7: Jesse Veneburg | E7: 486 | F7: 6 | G7: 77 | H7: =F7*400+G7 -> 2477
A8: 1 | B8: Bo Schonnewille | E8: 364 | F8: 5 | G8: 41 | H8: =F8*400+G8 -> 2041
A9: 1 | B9: Sven Hagedoorn | E9: 319 | F9: 7 | G9: 291 | H9: =F9*400+G9 -> 3091
A10: 1 | B10: Ilona Riesthuis | E10: 498 | F10: 6 | G10: 243 | H10: =F10*400+G10 -> 2643
A11: 1 | B11: Edwin Zwiep | D11: 26505 | E11: 735 | F11: 6 | G11: 309 | H11: =F11*400+G11 -> 2709
A13: =SUM(A3:A11) -> 9
H15: =SUM(H3:H14) -> 23696 | I15: Aantal meters 20.00 uur
H17: =A13 -> 9 | I17: Aantal deelnemers
H19: =H15/H17 -> 2632.8889 | I19: Gemiddel per deelnemer

Sheet 20;30
B1: Naam | C1: Man/vrouw | D1: Geboortedatum | E1: Startnummer | F1: Ronden | G1: Restmeters | H1: Totaal
A3: 1 | B3: Christiaan Kroon | C3: M | D3: 30086 | E3: 733 | F3: 7 | G3: 156 | H3: =(F3*400)+G3 -> 2956
A4: 1 | B4: Henry Benjamins | C4: M | D4: 30328 | E4: 734 | F4: 7 | G4: 264 | H4: =(F4*400)+G4 -> 3064
A5: 1 | B5: Aran Gruppen | C5: M | D5: 29908 | E5: 736 | F5: 7 | G5: 226 | H5: =(F5*400)+G5 -> 3026
A6: 1 | B6: Roald Heuker | C6: M | D6: 38444 | E6: 737 | F6: 8 | G6: 89 | H6: =(F6*400)+G6 -> 3289
A7: 1 | B7: Jelle Bisschop | C7: M | D7: 31432 | E7: 738 | F7: 5 | H7: =(F7*400)+G7 -> 2000 | J7: uitgevallen
A8: 1 | B8: Wim Bredewold | C8: M | D8: 30595 | E8: 739 | F8: 8 | G8: 21 | H8: =(F8*400)+G8 -> 3221
A10: =SUM(A3:A9) -> 6
H11: =SUM(H3:H10) -> 17556 | I11: aantal meters totaal 20.30 uur
H13: =A10 -> 6 | I13: aantal deelnemers 20.30 uur
H15: =H11/H13 -> 2926 | I15: Gemiddeld per deelnemer 20.30 uur
C17: Totaal aantal gelopen meters | G17: Aantal deelnemers | I17: Gemiddeld per persoon
C18: 19.00 uur | D18: ='19;00'!H18 -> 14481 | G18: ='19;00'!H20 -> 12 | I18: =D18/G18 -> 1206.75 | J18: per persoon
C22: 19.30 uur | D22: ='19;30'!H36 -> 73770 | G22: ='19;30'!H38 -> 32 | I22: =D22/G22 -> 2305.3125 | J22: per persoon
C23: 20.00 uur | D23: ='20;00'!H15 -> 23696 | G23: ='20;00'!H17 -> 9 | I23: =D23/G23 -> 2632.8889 | J23: per persoon
C24: 20.30 uur | D24: =H11 -> 17556 | G24: =A10 -> 6 | I24: =D24/G24 -> 2926 | J24: per persoon
C25: Totaal meters alle deelnemers | D25: =SUM(D22:D24) -> 115022 | G25: =SUM(G22:G24) -> 47 | H25: deelnemers | I25: =D25/G25 -> 2447.2766 | J25: totaal gemiddeld per persoon
G26: =G25+G18 -> 59
C28: Oudste deelnemer | D28: 1688 | E28: 70 jaar jong
C30: Jongste deelnemer | D30: 1163 | E30: 7 jaar jong
C33: Kortste afstand 12 minuten | D33: 1445 | E33: meter
C35: Langste afstand 12 minuten | D35: 3289 | E35: meter
