BEGIN:VCALENDAR
VERSION:2.0
PRODID:-//HAC &#039;63 - ECPv6.2.6//NONSGML v1.0//EN
CALSCALE:GREGORIAN
METHOD:PUBLISH
X-WR-CALNAME:HAC &#039;63
X-ORIGINAL-URL:https://hac63.nl/wordpress
X-WR-CALDESC:Evenementen voor HAC &#039;63
REFRESH-INTERVAL;VALUE=DURATION:PT1H
X-Robots-Tag:noindex
X-PUBLISHED-TTL:PT1H
BEGIN:VTIMEZONE
TZID:Europe/Paris
BEGIN:DAYLIGHT
TZOFFSETFROM:+0100
TZOFFSETTO:+0200
TZNAME:CEST
DTSTART:20250330T010000
END:DAYLIGHT
BEGIN:STANDARD
TZOFFSETFROM:+0200
TZOFFSETTO:+0100
TZNAME:CET
DTSTART:20251026T010000
END:STANDARD
END:VTIMEZONE
BEGIN:VEVENT
DTSTART;TZID=Europe/Paris:20250906T100000
DTEND;TZID=Europe/Paris:20250906T140000
DTSTAMP:20260423T135316
CREATED:20240915T130012Z
LAST-MODIFIED:20240915T130155Z
UID:52677-1757152800-1757167200@hac63.nl
SUMMARY:Open Club Sportdag\, 5e editie
DESCRIPTION:
URL:https://hac63.nl/wordpress/event/open-club-sportdag/
LOCATION:Atletiekbaan Hoogeveen\, Sportveldenweg 3\, Hoogeveen\, 7902NX\, Nederland
END:VEVENT
BEGIN:VEVENT
DTSTART;TZID=Europe/Paris:20250920T080000
DTEND;TZID=Europe/Paris:20250920T170000
DTSTAMP:20260423T135316
CREATED:20250107T091513Z
LAST-MODIFIED:20250107T091513Z
UID:54025-1758355200-1758387600@hac63.nl
SUMMARY:Pesserrun Pess
DESCRIPTION:
URL:https://hac63.nl/wordpress/event/pesserrun-pess/
END:VEVENT
BEGIN:VEVENT
DTSTART;TZID=Europe/Paris:20250921T080000
DTEND;TZID=Europe/Paris:20250921T170000
DTSTAMP:20260423T135316
CREATED:20250107T091650Z
LAST-MODIFIED:20250107T091650Z
UID:54027-1758441600-1758474000@hac63.nl
SUMMARY:MooiRuinenLoop Ruinen
DESCRIPTION:
URL:https://hac63.nl/wordpress/event/mooiruinenloop-ruinen/
END:VEVENT
BEGIN:VEVENT
DTSTART;TZID=Europe/Paris:20250926T190000
DTEND;TZID=Europe/Paris:20250926T204500
DTSTAMP:20260423T135316
CREATED:20241028T120653Z
LAST-MODIFIED:20241028T120653Z
UID:53627-1758913200-1758919500@hac63.nl
SUMMARY:Clubkampioenschappen 2025
DESCRIPTION:
URL:https://hac63.nl/wordpress/event/clubkampioenschappen-2025/
END:VEVENT
BEGIN:VEVENT
DTSTART;TZID=Europe/Paris:20250927T080000
DTEND;TZID=Europe/Paris:20250927T170000
DTSTAMP:20260423T135316
CREATED:20241028T120736Z
LAST-MODIFIED:20241028T121236Z
UID:53629-1758960000-1758992400@hac63.nl
SUMMARY:Clubkampioenschappen 2025
DESCRIPTION:Clubkampioenschappen met oa wedstrijd 100 m en 3 km \nZaterdag 27 september 2025 \nStart check website hac 63 \nwww.hac63.nl
URL:https://hac63.nl/wordpress/event/clubkampioenschappen-2025-2/
END:VEVENT
END:VCALENDAR