BEGIN:VCALENDAR
VERSION:2.0
PRODID:-//HAC &#039;63 - ECPv6.2.6//NONSGML v1.0//EN
CALSCALE:GREGORIAN
METHOD:PUBLISH
X-WR-CALNAME:HAC &#039;63
X-ORIGINAL-URL:https://hac63.nl/wordpress
X-WR-CALDESC:Evenementen voor HAC &#039;63
REFRESH-INTERVAL;VALUE=DURATION:PT1H
X-Robots-Tag:noindex
X-PUBLISHED-TTL:PT1H
BEGIN:VTIMEZONE
TZID:Europe/Paris
BEGIN:DAYLIGHT
TZOFFSETFROM:+0100
TZOFFSETTO:+0200
TZNAME:CEST
DTSTART:20220327T010000
END:DAYLIGHT
BEGIN:STANDARD
TZOFFSETFROM:+0200
TZOFFSETTO:+0100
TZNAME:CET
DTSTART:20221030T010000
END:STANDARD
BEGIN:DAYLIGHT
TZOFFSETFROM:+0100
TZOFFSETTO:+0200
TZNAME:CEST
DTSTART:20230326T010000
END:DAYLIGHT
BEGIN:STANDARD
TZOFFSETFROM:+0200
TZOFFSETTO:+0100
TZNAME:CET
DTSTART:20231029T010000
END:STANDARD
END:VTIMEZONE
BEGIN:VEVENT
DTSTART;TZID=Europe/Paris:20231001T130000
DTEND;TZID=Europe/Paris:20231001T170000
DTSTAMP:20260424T000301
CREATED:20230114T133618Z
LAST-MODIFIED:20230114T134804Z
UID:46966-1696165200-1696179600@hac63.nl
SUMMARY:Lexis Crossloop
DESCRIPTION:Boscross over 5 of 10 km \nNadere informatie volgt \nDeze loop telt mee voor de Hypotheekcentrumcompetitie
URL:https://hac63.nl/wordpress/event/lexis-crossloop/
LOCATION:Zuidwolde\, Nijverheidsweg 43\, Zuidwolde\, 7921 JH 
END:VEVENT
BEGIN:VEVENT
DTSTART;TZID=Europe/Paris:20230930T090000
DTEND;TZID=Europe/Paris:20230930T170000
DTSTAMP:20260424T000301
CREATED:20230114T134345Z
LAST-MODIFIED:20230123T211211Z
UID:46963-1696064400-1696093200@hac63.nl
SUMMARY:Clubkampioenschappen 2023
DESCRIPTION:Voor alle leden \nNadere informatie volgt \nTelt mee voor de Hypotheekcentrumcompetitie
URL:https://hac63.nl/wordpress/event/clubkampioenschappen-5/
ORGANIZER;CN="HAC'63":MAILTO:info@hac63.nl
END:VEVENT
BEGIN:VEVENT
DTSTART;TZID=Europe/Paris:20230923T080000
DTEND;TZID=Europe/Paris:20230923T170000
DTSTAMP:20260424T000301
CREATED:20230123T211358Z
LAST-MODIFIED:20230123T211358Z
UID:47138-1695456000-1695488400@hac63.nl
SUMMARY:NNK pupillen
DESCRIPTION:
URL:https://hac63.nl/wordpress/event/nnk-pupillen/
END:VEVENT
BEGIN:VEVENT
DTSTART;TZID=Europe/Paris:20230922T183000
DTEND;TZID=Europe/Paris:20230922T210000
DTSTAMP:20260424T000301
CREATED:20230114T134318Z
LAST-MODIFIED:20230803T114930Z
UID:46952-1695407400-1695416400@hac63.nl
SUMMARY:Afgelast: van Eeks Trackmeeting
DESCRIPTION:Helaas moet om organisatorische redenen de trackmeeting die gepland stond voor 22 september vervallen. \nWie al inschrijfgeld had betaald krijgt dat weer terug. \nDeze loop zal dus dit jaar ook niet meetellen voor de Hypotheekcentrumcompetitie \n 
URL:https://hac63.nl/wordpress/event/veeks-trackmeeting-2/
END:VEVENT
BEGIN:VEVENT
DTSTART;TZID=Europe/Paris:20230916T183000
DTEND;TZID=Europe/Paris:20230916T203000
DTSTAMP:20260424T000301
CREATED:20230114T132724Z
LAST-MODIFIED:20230114T134919Z
UID:46960-1694889000-1694896200@hac63.nl
SUMMARY:Pesserrun
DESCRIPTION:Run over 5 of 10 km \nNadere informatie volgt \nDeze loop telt mee voor de Hypotheekcentrumcompetitie
URL:https://hac63.nl/wordpress/event/pesserrun-2/
END:VEVENT
BEGIN:VEVENT
DTSTART;TZID=Europe/Paris:20230916T100000
DTEND;TZID=Europe/Paris:20230916T150000
DTSTAMP:20260424T000301
CREATED:20221124T090157Z
LAST-MODIFIED:20230918T163305Z
UID:46360-1694858400-1694876400@hac63.nl
SUMMARY:3e editie Open Sportclub dag
DESCRIPTION:3e editie van Hoogeveen Sport! Open Sportclub dag. \n 
URL:https://hac63.nl/wordpress/event/3e-editie-open-sportclub-dag/
LOCATION:Atletiekbaan Hoogeveen\, Sportveldenweg 3\, Hoogeveen\, 7902NX\, Nederland
END:VEVENT
BEGIN:VEVENT
DTSTART;TZID=Europe/Paris:20230830T183000
DTEND;TZID=Europe/Paris:20230830T203000
DTSTAMP:20260424T000301
CREATED:20230114T134942Z
LAST-MODIFIED:20230114T134942Z
UID:46957-1693420200-1693427400@hac63.nl
SUMMARY:Alkeloop
DESCRIPTION:Run over 5 pf 10 km \nNadere informatie volgt \nDeze loop telt mee voor de Hypotheekcentrumcompetitie
URL:https://hac63.nl/wordpress/event/alkeloop/
LOCATION:Alteveer
END:VEVENT
BEGIN:VEVENT
DTSTART;TZID=Europe/Paris:20230824T193000
DTEND;TZID=Europe/Paris:20230824T213000
DTSTAMP:20260424T000301
CREATED:20230114T132350Z
LAST-MODIFIED:20230114T135009Z
UID:46954-1692905400-1692912600@hac63.nl
SUMMARY:Wiekloop
DESCRIPTION:Run over 5 of 10 km \nNadere informatie volgt \nDeze loop telt mee voor de Hypotheekcentrumcompetitie
URL:https://hac63.nl/wordpress/event/wiekloop/
LOCATION:de Wijk
END:VEVENT
BEGIN:VEVENT
DTSTART;TZID=Europe/Paris:20230708T183000
DTEND;TZID=Europe/Paris:20230708T210000
DTSTAMP:20260424T000301
CREATED:20230114T131840Z
LAST-MODIFIED:20230114T135111Z
UID:46949-1688841000-1688850000@hac63.nl
SUMMARY:Singelloop
DESCRIPTION:Loop over 5 km en 10 km \nNadere informatie volgt \nDeze loop telt mee voor de Hypotheekcentrumcompetitie
URL:https://hac63.nl/wordpress/event/singelloop/
LOCATION:Dorpshuis Hollandscheveld
END:VEVENT
BEGIN:VEVENT
DTSTART;TZID=Europe/Paris:20230624T100000
DTEND;TZID=Europe/Paris:20230624T150000
DTSTAMP:20260424T000301
CREATED:20230509T075841Z
LAST-MODIFIED:20230509T075841Z
UID:47989-1687600800-1687618800@hac63.nl
SUMMARY:2e medaillewedstrijd
DESCRIPTION:
URL:https://hac63.nl/wordpress/event/2e-medaillewedstrijd/
LOCATION:Atletiekbaan Hoogeveen\, Sportveldenweg 3\, Hoogeveen\, 7902NX\, Nederland
END:VEVENT
BEGIN:VEVENT
DTSTART;TZID=Europe/Paris:20230610T080000
DTEND;TZID=Europe/Paris:20230610T170000
DTSTAMP:20260424T000301
CREATED:20230114T131430Z
LAST-MODIFIED:20230114T135153Z
UID:46947-1686384000-1686416400@hac63.nl
SUMMARY:10venenloop
DESCRIPTION:Loop over 5\, 10 of 21\,1 km \nNadere informatie volgt \nDeze loop telt mee voor de Hypotheekcentrumcompetitie
URL:https://hac63.nl/wordpress/event/10venenloop/
LOCATION:Tiendeveen
END:VEVENT
BEGIN:VEVENT
DTSTART;TZID=Europe/Paris:20230607T190000
DTEND;TZID=Europe/Paris:20230607T210000
DTSTAMP:20260424T000301
CREATED:20230114T131153Z
LAST-MODIFIED:20230114T135212Z
UID:46944-1686164400-1686171600@hac63.nl
SUMMARY:Speeltuinloop
DESCRIPTION:Loop over 5 km \nNadere informatie volgt \nDeze loop telt mee voor de Hypotheekcentrumcompetitie
URL:https://hac63.nl/wordpress/event/speeltuinloop/
LOCATION:Speeltuin Hollandscheveld
END:VEVENT
BEGIN:VEVENT
DTSTART;TZID=Europe/Paris:20230606T183000
DTEND;TZID=Europe/Paris:20230606T203000
DTSTAMP:20260424T000301
CREATED:20230103T121513Z
LAST-MODIFIED:20230103T121513Z
UID:46834-1686076200-1686083400@hac63.nl
SUMMARY:Avond4Daagse Hoogeveen 6\, 7\, 8\, 9 juni 2023
DESCRIPTION:
URL:https://hac63.nl/wordpress/event/avond4daagse-hoogeveen-6-7-8-9-juni-2023/
ATTACH;FMTTYPE=image/png:https://hac63.nl/wordpress/wp-content/uploads/2022/04/Afbeelding4.png
ORGANIZER;CN="HAC'63":MAILTO:info@hac63.nl
END:VEVENT
BEGIN:VEVENT
DTSTART;TZID=Europe/Paris:20230604T183000
DTEND;TZID=Europe/Paris:20230604T203000
DTSTAMP:20260424T000301
CREATED:20230114T130939Z
LAST-MODIFIED:20230114T135233Z
UID:46940-1685903400-1685910600@hac63.nl
SUMMARY:MooiRuinenloop
DESCRIPTION:Loop over 5 of 10 km \nNadere informatie volgt \nDeze loop telt mee voor de Hypotheekcentrumcompetitie
URL:https://hac63.nl/wordpress/event/mooiruinenloop/
LOCATION:Ruinen
END:VEVENT
BEGIN:VEVENT
DTSTART;TZID=Europe/Paris:20230524T183000
DTEND;TZID=Europe/Paris:20230524T220000
DTSTAMP:20260424T000301
CREATED:20230114T135253Z
LAST-MODIFIED:20230501T185633Z
UID:46938-1684953000-1684965600@hac63.nl
SUMMARY:HAC'63-jubileum-estafette
DESCRIPTION:101920_Flyer Estafetteloop 60jr_WEB \n 
URL:https://hac63.nl/wordpress/event/hac63-jubileum-3-uurs-estafette/
ORGANIZER;CN="HAC'63":MAILTO:info@hac63.nl
END:VEVENT
BEGIN:VEVENT
DTSTART;TZID=Europe/Paris:20230513T110000
DTEND;TZID=Europe/Paris:20230513T170000
DTSTAMP:20260424T000301
CREATED:20230512T085700Z
LAST-MODIFIED:20230512T085733Z
UID:47998-1683975600-1683997200@hac63.nl
SUMMARY:Competitiewedstrijd U16/U14 Poule 66 R2 in Hoogeveen
DESCRIPTION:Tijd\nStartgroep\nOnderdeel\n \n\n\n\n\n11:00\nU16-M\n4 x 100 meter\n 7 teams\n\n\n11:00\nU14-V – groep A\nVerspringen\n 9 atleten\n\n\n11:00\nU14-V – groep A\nSpeerwerpen 400 gram\n 7 atleten\n\n\n11:05\nU16-V – groep A\nKogelstoten 3 kilogram\n 6 atleten\n\n\n11:10\nU16-V – groep A\nDiscuswerpen 1 kilogram\n 6 atleten\n\n\n11:15\nU14-M\n4 x 80 meter\n 7 teams\n\n\n11:15\nU16-M – groep A\nHoogspringen\nHoog 1\n 8 atleten\n\n\n11:25\nU16-V\n4 x 80 meter\n 11 teams\n\n\n11:30\nU16-V – groep A\nHoogspringen\nHoog 2\n 10 atleten\n\n\n11:40\nU14-V\n4 x 60 meter\n 10 teams\n\n\n11:45\nU14-M – groep A\nVerspringen\n 8 atleten\n\n\n11:50\nU16-M – groep A\nKogelstoten 4 kilogram\n 6 atleten\n\n\n12:00\nU16-V – groep A\nSpeerwerpen 500 gram\n 8 atleten\n\n\n12:10\nU16-M\n100 meter horden (84cm)\n 15 atleten\n\n\n12:10\nU14-M – groep A\nDiscuswerpen 1 kilogram\n 8 atleten\n\n\n12:30\nU16-M – groep A\nVerspringen\n 9 atleten\n\n\n12:35\nU14-M\n80 meter horden (76cm)\n 17 atleten\n\n\n12:35\nU14-V – groep A\nKogelstoten 2 kilogram\n 9 atleten\n\n\n12:35\nU14-M – groep A\nHoogspringen\nHoog 1\n 8 atleten\n\n\n12:50\nU16-V\n80 meter horden (76cm)\n 22 atleten\n\n\n12:50\nU14-V – groep A\nHoogspringen\nHoog 2\n 7 atleten\n\n\n13:00\nU16-M – groep A\nSpeerwerpen 600 gram\n 9 atleten\n\n\n13:15\nU14-V\n60 meter horden (76cm)\n 19 atleten\n\n\n13:15\nU16-V – groep A\nVerspringen\n 12 atleten\n\n\n13:20\nU14-M – groep A\nKogelstoten 3 kilogram\n 7 atleten\n\n\n13:40\nU14-M – groep B\nHoogspringen\nHoog 1\n 8 atleten\n\n\n13:45\nU16-M\n1500 meter\n 15 atleten\n\n\n13:45\nU16-V – groep B\nDiscuswerpen 1 kilogram\n 9 atleten\n\n\n13:55\nU16-V – groep B\nHoogspringen\nHoog 2\n 5 atleten\n\n\n14:00\nU14-V – groep B\nVerspringen\n 10 atleten\n\n\n14:00\nU14-V – groep B\nSpeerwerpen 400 gram\n 9 atleten\n\n\n14:05\nU16-V – groep B\nKogelstoten 3 kilogram\n 7 atleten\n\n\n14:10\nU16-V\n1500 meter\n 22 atleten\n\n\n14:40\nU14-M\n600 meter\n 20 atleten\n\n\n14:45\nU14-M – groep B\nVerspringen\n 8 atleten\n\n\n14:45\nU14-M – groep B\nDiscuswerpen 1 kilogram\n 6 atleten\n\n\n14:45\nU16-M – groep B\nHoogspringen\nHoog 1\n 6 atleten\n\n\n14:50\nU16-M – groep B\nKogelstoten 4 kilogram\n 7 atleten\n\n\n14:55\nU14-V\n600 meter\n 23 atleten\n\n\n15:00\nU16-V – groep B\nSpeerwerpen 500 gram\n 8 atleten\n\n\n15:15\nU16-M\n150 meter\n 21 atleten\n\n\n15:15\nU14-V – groep B\nHoogspringen\nHoog 2\n 9 atleten\n\n\n15:30\nU16-M – groep B\nVerspringen\n 7 atleten\n\n\n15:35\nU16-V\n150 meter\n 31 atleten\n\n\n15:35\nU14-V – groep B\nKogelstoten 2 kilogram\n 6 atleten\n\n\n16:00\nU14-M\n80 meter\n 23 atleten\n\n\n16:00\nU16-M – groep B\nSpeerwerpen 600 gram\n 7 atleten\n\n\n16:15\nU16-V – groep B\nVerspringen\n 8 atleten\n\n\n16:20\nU14-V\n60 meter\n 26 atleten\n\n\n16:20\nU14-M – groep B\nKogelstoten 3 kilogram\n 5 atleten\n\n\n\n 
URL:https://hac63.nl/wordpress/event/competitie-u16-u14-poule-66-r2/
END:VEVENT
BEGIN:VEVENT
DTSTART;TZID=Europe/Paris:20230510T183000
DTEND;TZID=Europe/Paris:20230510T203000
DTSTAMP:20260424T000301
CREATED:20230114T135314Z
LAST-MODIFIED:20230126T191602Z
UID:46936-1683743400-1683750600@hac63.nl
SUMMARY:Erflandenrun
DESCRIPTION:5 of 10 km in de wijk de Erflanden in Hoogeveen \nNadere informatie volgt \nDeze loop telt mee voor de Hypotheekcentrumcompetitie
URL:https://hac63.nl/wordpress/event/erflandenrun/
END:VEVENT
BEGIN:VEVENT
DTSTART;TZID=Europe/Paris:20230418T181500
DTEND;TZID=Europe/Paris:20230418T204500
DTSTAMP:20260424T000301
CREATED:20230330T141516Z
LAST-MODIFIED:20230331T195800Z
UID:47738-1681841700-1681850700@hac63.nl
SUMMARY:Tweede trainingswedstrijd
DESCRIPTION:*Voor alle categorieën. \n*Alleen clubleden. \n*Opgeven kan binnenkort via de link: Atletiek.nu – Trainingswedstrijd 2 HAC’63 – HAC `63\, Hoogeveen \n*De volgende onderdelen staan op het programma: \n\nAlle categorieën: Sprint en mila\nPupillen: Balstoten\nVanaf junioren: Discuswerpen\n\n*Derde trainingswedstrijd is maandag 22 mei: \n\nPupillen: Hoogspringen\, meters maken\nJunioren en ouder: Hoogspringen en speerwerpen 
URL:https://hac63.nl/wordpress/event/tweede-trainingswedstrijd/
LOCATION:Atletiekbaan Hoogeveen\, Sportveldenweg 3\, Hoogeveen\, 7902NX\, Nederland
END:VEVENT
BEGIN:VEVENT
DTSTART;VALUE=DATE:20230416
DTEND;VALUE=DATE:20230417
DTSTAMP:20260424T000301
CREATED:20221102T125005Z
LAST-MODIFIED:20230114T141142Z
UID:46102-1681603200-1681689599@hac63.nl
SUMMARY:15e editie Hoogeveense Cascaderun
DESCRIPTION:Testlopen: vanaf gemeentehuis\, opgave niet nodig \n\nDonderdag 3 november 2022 19:00\nZondag 13 november 2022\nZondag 1 januari 2023\nZondag 22 januari 2023\nZondag 12 februari 2023\nZondag 12 maart 2023\nZondag 26 maart 2023\nZondag 9 april 2023Voor de 5 mijl wordt er gelopen in zeven groepen:\n\nGroep 1: 4:58/km (12\,1 km/u\, finishtijd: 00:40:00)\nGroep 2: 5:36/km (10\,7 km/u\, finishtijd: 00:45:00)\nGroep 3: 5:54/km (10\,2 km/u\, finishtijd: 00:47:30)\nGroep 4: 6:13/km (9\,7 km/u\, finishtijd: 00:50:00)\nGroep 5: 6:31/km (9\,2 km/u\, finishtijd: 00:52:30)\nGroep 6: 6:50/km (8\,8 km/u\, finishtijd: 00:55:00)\nGroep 7: langzamer dan 6:50/km (langzamer dan 8\,8 km/u\, finishtijd: langer dan 00:55:00)\n\nVoor de 10 mijl wordt er gelopen in drie groepen: \n\nGroep 1: 5:30/km (10\,9 km/u\, finishtijd: 1:28:30)\nGroep 2: 6:00/km (10 km/u\, finishtijd: 1:36:34)\nGroep 3: 6:30/km (9\,2 km/u\, finishtijd: 1:44:36)
URL:https://hac63.nl/wordpress/event/15e-editie-hoogeveense-cascaderun/
END:VEVENT
BEGIN:VEVENT
DTSTART;TZID=Europe/Paris:20230404T190000
DTEND;TZID=Europe/Paris:20230404T210000
DTSTAMP:20260424T000301
CREATED:20230114T125838Z
LAST-MODIFIED:20230126T214801Z
UID:46934-1680634800-1680642000@hac63.nl
SUMMARY:Primera de Haan 4 mijlrun
DESCRIPTION:Run 4 mijl \n-start 19:30 uur atletiekbaan \n-kosten €7 bij voor-inschrijving tot 2 april via www.inschrijven.nl \n-kosten €10 bij na-inschrijving tot 30 minuten voor aanvang \nG-loop over 800 meter \n-start 19:00 uur atletiekbaan \n-kosten : € 3 \nPrijzen \n-1ste prijs € 50\, 2de prijs € 30\, 3de prijs €10 in de volgende categorieën: heren senioren en 40+ en dames senioren en 40+. \n-bonus 50 euro voor alle dames- en herencategorieen \nDeze loop telt mee voor de Hypotheekcentrumcompetitie!
URL:https://hac63.nl/wordpress/event/primeradehaanrun/
LOCATION:Atletiekbaan Hoogeveen\, Sportveldenweg 3\, Hoogeveen\, 7902NX\, Nederland
ATTACH;FMTTYPE=image/jpeg:https://hac63.nl/wordpress/wp-content/uploads/2023/01/WhatsApp-Image-2023-01-26-at-22.02.35.jpeg
ORGANIZER;CN="HAC'63":MAILTO:info@hac63.nl
END:VEVENT
BEGIN:VEVENT
DTSTART;TZID=Europe/Paris:20230331T190000
DTEND;TZID=Europe/Paris:20230331T203000
DTSTAMP:20260424T000301
CREATED:20230114T124947Z
LAST-MODIFIED:20230114T135421Z
UID:46928-1680289200-1680294600@hac63.nl
SUMMARY:BoulevardLoop  Nieuweroord
DESCRIPTION:4 mijl loop in Nieuweroord \nNadere informatie volgt \nDeze loop telt mee voor de Hypotheekcentrumcompetitie
URL:https://hac63.nl/wordpress/event/boulevardloop-nieuweroord/
END:VEVENT
BEGIN:VEVENT
DTSTART;VALUE=DATE:20230318
DTEND;VALUE=DATE:20230319
DTSTAMP:20260424T000301
CREATED:20221003T181651Z
LAST-MODIFIED:20221003T181651Z
UID:45818-1679097600-1679183999@hac63.nl
SUMMARY:Baanatletiektrainersdag op Papendal
DESCRIPTION:Op 18 maart 2023 kunnen baanatletiektrainers zich tijdens de Dag van de Atletiek op Papendal laten bijscholen.
URL:https://hac63.nl/wordpress/event/baanatletiektrainersdag-op-papendal/
END:VEVENT
BEGIN:VEVENT
DTSTART;TZID=Europe/Paris:20230317T183000
DTEND;TZID=Europe/Paris:20230317T210000
DTSTAMP:20260424T000301
CREATED:20230114T124757Z
LAST-MODIFIED:20230317T161159Z
UID:46925-1679077800-1679086800@hac63.nl
SUMMARY:vEeks trackmeeting afgelast en verplaatst naar 22 september
DESCRIPTION:De wedstrijd van 17 maart is afgelast vanwege te weinig inschrijvingen en daarom verplaatst naar 22 september. \nDe WOC loop zal  dan tijdiger wedstrijd gaan promoten.
URL:https://hac63.nl/wordpress/event/veeks-trackmeeting/
LOCATION:Atletiekbaan Hoogeveen\, Sportveldenweg 3\, Hoogeveen\, 7902NX\, Nederland
END:VEVENT
BEGIN:VEVENT
DTSTART;TZID=Europe/Paris:20230316T180000
DTEND;TZID=Europe/Paris:20230316T203000
DTSTAMP:20260424T000301
CREATED:20230224T115851Z
LAST-MODIFIED:20230224T115851Z
UID:47434-1678989600-1678998600@hac63.nl
SUMMARY:1e jubileumtrainingswedstrijd
DESCRIPTION:Voor alle leden van HAC’63\nOnderdelen: Vortex\, Kogel\, Verspringen\nInschrijven: via atletiek.nu
URL:https://hac63.nl/wordpress/event/1e-jubileumtrainingswedstrijd/
LOCATION:HAC’63\, Sportveldenweg 3\, Hoogeveen
END:VEVENT
BEGIN:VEVENT
DTSTART;TZID=Europe/Paris:20230309T190000
DTEND;TZID=Europe/Paris:20230309T210000
DTSTAMP:20260424T000301
CREATED:20230114T124606Z
LAST-MODIFIED:20230216T221317Z
UID:46923-1678388400-1678395600@hac63.nl
SUMMARY:Labrochette Coopertest
DESCRIPTION:Test je conditie. Deze loop telt mee voor de Hypotheekcentrumcompetitie. \nStarttijden/groepsindeling: \n\n19.00 uur (6 minuten) – Jeugd t/m 12 jaar en G lopers\n19.30 uur (12 minuten) – Afstand korter dan ca. 2.500 m\n20.00 uur (12 minuten) – Afstand 2.500 / 2.800 m\n20.30 uur (12 minuten) – Afstand langer dan 2.800 m\n\nVooraf inschrijven kan tot dinsdag 7 maart: Stuur je naam\, geboortedatum\, telefoonnummer en starttijd naar woc@hac63.nl \nInschrijven in het Sport-Café De Twee Gezusters op donderdag 9 maart vanaf 18.00 uur tot 15 minuten voor de gekozen starttijd. \nHet inschrijfgeld bedraagt € 2\,50.
URL:https://hac63.nl/wordpress/event/labrochette-coopertest-2/
LOCATION:Atletiekbaan Hoogeveen\, Sportveldenweg 3\, Hoogeveen\, 7902NX\, Nederland
ATTACH;FMTTYPE=application/pdf:https://hac63.nl/wordpress/wp-content/uploads/2023/01/100973_coopertest_LR-2.pdf
END:VEVENT
BEGIN:VEVENT
DTSTART;TZID=Europe/Paris:20230115T110000
DTEND;TZID=Europe/Paris:20230115T170000
DTSTAMP:20260424T000301
CREATED:20221006T071733Z
LAST-MODIFIED:20230114T135738Z
UID:45827-1673780400-1673802000@hac63.nl
SUMMARY:Intersport Jan Bols Bentinckspark Run en Obstacle Run
DESCRIPTION:Alle HAC’63 leden die meedoen met deze run ontvangen 30 punten voor de hypotheekcentrumcompetitie 2023! \nDe Run vindt plaats op zondag 15 januari en wordt voor de vijfde keer gelopen. Dit jaar is er naast een Kidsrun ook een G-Loop tijdens de Obstacle Run. De Kidsrun is te belopen over een drietal afstanden: 400\, 800 en 1000 meter. \nDe Obstacle Run is een parcours van vijf kilometer met uitdagende hindernissen en is geschikt voor alle leeftijdscategorieën. Deelname aan de Obstacle Run is mogelijk vanaf 12 jaar. \nDe route gaat over het terrein van de Peddelaars\, VV Hoogeveen en de atletiekbaan van HAC’63. \nNa-inschrijving vanaf 10 uur tot 30 minuten voor de start
URL:https://hac63.nl/wordpress/event/bentincksparkrun/
LOCATION:Bentinckspark\, Sportveldenweg\, Hoogeveen\, 7902 NX
ATTACH;FMTTYPE=image/jpeg:https://hac63.nl/wordpress/wp-content/uploads/2022/10/2023-1-15-bentinckspark-run-cross-2023.jpg
ORGANIZER;CN="HAC'63":MAILTO:info@hac63.nl
END:VEVENT
BEGIN:VEVENT
DTSTART;TZID=Europe/Paris:20230110T193000
DTEND;TZID=Europe/Paris:20230110T220000
DTSTAMP:20260424T000301
CREATED:20221203T140835Z
LAST-MODIFIED:20221217T083034Z
UID:46567-1673379000-1673388000@hac63.nl
SUMMARY:Nieuwjaarsreceptie HAC'63 op 10 januari 2023
DESCRIPTION:Dinsdagavond 10 januari 2023 Nieuwjaarsreceptie in het Sportcafé\nVanaf 19:30 uur inloop\nVan 20 – 21 uur officiële deel met oa\n-uitreiking prijzen Hypotheekcentrumcompetitie\n-presenteren plannen jubileumcommissie\nVanaf 21:30 napraten \nNB: voor alle vrijwilligers ligt er die avond een attentie klaar\, als dank voor de inzet van het afgelopen jaar
URL:https://hac63.nl/wordpress/event/nieuwjaarsreceptie-9-januari-2023/
END:VEVENT
BEGIN:VEVENT
DTSTART;TZID=Europe/Paris:20221213T203000
DTEND;TZID=Europe/Paris:20221213T203000
DTSTAMP:20260424T000301
CREATED:20221122T110819Z
LAST-MODIFIED:20221125T093913Z
UID:46295-1670963400-1670963400@hac63.nl
SUMMARY:Baanwedstrijd voor Nikita Heuvelman
DESCRIPTION:
URL:https://hac63.nl/wordpress/event/baanwedstrijd-voor-nikita-heuvelman/
LOCATION:Atletiekbaan Hoogeveen\, Sportveldenweg 3\, Hoogeveen\, 7902NX\, Nederland
ATTACH;FMTTYPE=image/jpeg:https://hac63.nl/wordpress/wp-content/uploads/2022/11/flyer-nikita-13-dec-2022.jpeg
ORGANIZER;CN="HAC'63":MAILTO:info@hac63.nl
END:VEVENT
BEGIN:VEVENT
DTSTART;TZID=Europe/Paris:20221113T130000
DTEND;TZID=Europe/Paris:20221113T160000
DTSTAMP:20260424T000301
CREATED:20221006T073636Z
LAST-MODIFIED:20221006T073636Z
UID:45833-1668344400-1668355200@hac63.nl
SUMMARY:Schoonhovencross 2022
DESCRIPTION:Cross rond recreatieplas Schoonhoven\, hele parcours onverhard. Alleen voorinschrijving mogelijk via  www.inschrijven.nl
URL:https://hac63.nl/wordpress/event/schoonhovencross-2022/
END:VEVENT
BEGIN:VEVENT
DTSTART;VALUE=DATE:20221105
DTEND;VALUE=DATE:20221106
DTSTAMP:20260424T000301
CREATED:20221003T181017Z
LAST-MODIFIED:20221003T181122Z
UID:45810-1667606400-1667692799@hac63.nl
SUMMARY:Looptrainersdag op Papendal
DESCRIPTION:Dag voor alle collega-looptrainers om nieuwe kennis en inspiratie op te doen.
URL:https://hac63.nl/wordpress/event/looptrainersdag-op-papendal/
LOCATION:Papendal
END:VEVENT
END:VCALENDAR