BEGIN:VCALENDAR
VERSION:2.0
PRODID:-//HAC &#039;63 - ECPv6.2.6//NONSGML v1.0//EN
CALSCALE:GREGORIAN
METHOD:PUBLISH
X-WR-CALNAME:HAC &#039;63
X-ORIGINAL-URL:https://hac63.nl/wordpress
X-WR-CALDESC:Evenementen voor HAC &#039;63
REFRESH-INTERVAL;VALUE=DURATION:PT1H
X-Robots-Tag:noindex
X-PUBLISHED-TTL:PT1H
BEGIN:VTIMEZONE
TZID:Europe/Paris
BEGIN:DAYLIGHT
TZOFFSETFROM:+0100
TZOFFSETTO:+0200
TZNAME:CEST
DTSTART:20240331T010000
END:DAYLIGHT
BEGIN:STANDARD
TZOFFSETFROM:+0200
TZOFFSETTO:+0100
TZNAME:CET
DTSTART:20241027T010000
END:STANDARD
BEGIN:DAYLIGHT
TZOFFSETFROM:+0100
TZOFFSETTO:+0200
TZNAME:CEST
DTSTART:20250330T010000
END:DAYLIGHT
BEGIN:STANDARD
TZOFFSETFROM:+0200
TZOFFSETTO:+0100
TZNAME:CET
DTSTART:20251026T010000
END:STANDARD
END:VTIMEZONE
BEGIN:VEVENT
DTSTART;TZID=Europe/Paris:20250820T080000
DTEND;TZID=Europe/Paris:20250820T170000
DTSTAMP:20260423T133513
CREATED:20250107T091325Z
LAST-MODIFIED:20250723T213216Z
UID:54023-1755676800-1755709200@hac63.nl
SUMMARY:Alkeloop Alteveer
DESCRIPTION:
URL:https://hac63.nl/wordpress/event/alkeloop-alteveer/
END:VEVENT
BEGIN:VEVENT
DTSTART;TZID=Europe/Paris:20250820T080000
DTEND;TZID=Europe/Paris:20250820T170000
DTSTAMP:20260423T133513
CREATED:20250107T091230Z
LAST-MODIFIED:20250107T092302Z
UID:54021-1755676800-1755709200@hac63.nl
SUMMARY:4 Mijl van Staphorst
DESCRIPTION:
URL:https://hac63.nl/wordpress/event/4-mijl-van-staphorst/
END:VEVENT
BEGIN:VEVENT
DTSTART;TZID=Europe/Paris:20250705T080000
DTEND;TZID=Europe/Paris:20250705T170000
DTSTAMP:20260423T133513
CREATED:20250107T090823Z
LAST-MODIFIED:20250107T090823Z
UID:54014-1751702400-1751734800@hac63.nl
SUMMARY:Singelloop Hollandscheveld
DESCRIPTION:
URL:https://hac63.nl/wordpress/event/singelloop-hollandscheveld/
END:VEVENT
BEGIN:VEVENT
DTSTART;TZID=Europe/Paris:20250621T193000
DTEND;TZID=Europe/Paris:20250621T213000
DTSTAMP:20260423T133513
CREATED:20250605T201105Z
LAST-MODIFIED:20250605T201105Z
UID:54819-1750534200-1750541400@hac63.nl
SUMMARY:21 juni Hyperbowlen voor atleten vanaf U12
DESCRIPTION:Wie gooit de meeste strikes?! \nNa het succes van eerdere activiteiten is het tijd voor een avond vol plezier\, strijd en strikes! \nOp zaterdagavond 21 juni gaan we met z’n allen hyperbowlen bij Westerbergen! 🎉. Dit is vanaf de U12 atleten. \n📍 Locatie: Vakantiepark Westerbergen – Echten \n🕢 Tijd: Van 19:30 tot 21:30 uur\n➡ Zorg dat je er om 19:30 uur bent\, want we starten op tijd! \n💶 Kosten: €7\,50 p.p.\n(Het vervoer regel je zelf – carpoolen mag natuurlijk!) \nWat kun je verwachten?\n– Een avond vol hyperactief bowlen\n– Muziek\, lichtjes en gezelligheid\n– Een drankje\n– Een sportieve strijd buiten de atletiekbaan\nWie van jullie gooit de meeste strikes? Wie verslaat de trainers? \nAanmelden kan via:\n– activiteitencommissie@hac63.nl\n– 0629934598 (stuur gerust een appje!) \nZorg dat je erbij bent – dit wil je niet missen! 💥\nLet’s bowl! 
URL:https://hac63.nl/wordpress/event/21-juni-hyperbowlen-voor-atleten-vanaf-u12/
ATTACH;FMTTYPE=image/jpeg:https://hac63.nl/wordpress/wp-content/uploads/2025/06/Schermafbeelding-2025-06-05-214321-2.jpg
END:VEVENT
BEGIN:VEVENT
DTSTART;TZID=Europe/Paris:20250621T090000
DTEND;TZID=Europe/Paris:20250621T133000
DTSTAMP:20260423T133513
CREATED:20250605T200924Z
LAST-MODIFIED:20250605T200924Z
UID:54817-1750496400-1750512600@hac63.nl
SUMMARY:21 juni Beestenboel-uitje voor Pupillen
DESCRIPTION:Clubuitje Beestenboel bij De Drentse Koe!  \nOp zaterdag 21 juni gaan we er met z’n allen op uit naar De Drentse Koe in Ruinerwold een superleuk speelparadijs vol boerderijdieren\, waterpret\, klimmen\, klauteren en nog véél meer!  \n📍 Adres:\nDe Drentse Koe\nWolddijk 23\, 7961 NA Ruinerwold \n🕘 Vertrek: 09:00 uur – verzamelen bij de atletiekbaan in Hoogeveen\n🕐 Ophalen: 13:00 uur terug in Hoogeveen rond 13:30 uur \nKosten voor kinderen: €7\,50 \n🚗 Ouders opgelet!\nWe zoeken ouders die willen rijden of gezellig mee willen gaan. Als je blijft\, zijn de kosten voor ouders €12. Alleen brengen/halen mag natuurlijk ook! \nVergeet niet:\n– Kleren die vies mogen worden.\n– Zonnebrand als het warm weer is! \nLaat je snel weten of je meegaat en of je ouders willen rijden? Dan maken we er samen een beestachtig leuke dag van! \nOpgeven kan via:\nactiviteitencommissie@hac63.nl\nof via 06-29934598
URL:https://hac63.nl/wordpress/event/21-juni-beestenboel-uitje-voor-pupillen/
ATTACH;FMTTYPE=image/jpeg:https://hac63.nl/wordpress/wp-content/uploads/2025/06/Schermafbeelding-2025-06-05-213411-1.jpg
END:VEVENT
BEGIN:VEVENT
DTSTART;TZID=Europe/Paris:20250620T173000
DTEND;TZID=Europe/Paris:20250620T203000
DTSTAMP:20260423T133513
CREATED:20240616T153213Z
LAST-MODIFIED:20250605T201546Z
UID:52317-1750440600-1750451400@hac63.nl
SUMMARY:Avond4daagse Hoogeveen 2025 dag 4
DESCRIPTION:
URL:https://hac63.nl/wordpress/event/avond4daagse-hoogeveen-2025-dag-4/
LOCATION:Atletiekbaan Hoogeveen\, Sportveldenweg 3\, Hoogeveen\, 7902NX\, Nederland
ATTACH;FMTTYPE=image/png:https://hac63.nl/wordpress/wp-content/uploads/2025/05/2.png
ORGANIZER;CN="HAC'63":MAILTO:info@hac63.nl
END:VEVENT
BEGIN:VEVENT
DTSTART;TZID=Europe/Paris:20250619T180000
DTEND;TZID=Europe/Paris:20250619T203000
DTSTAMP:20260423T133513
CREATED:20240616T153122Z
LAST-MODIFIED:20250605T201511Z
UID:52314-1750356000-1750365000@hac63.nl
SUMMARY:Avond4daagse Hoogeveen 2025 dag 3
DESCRIPTION:
URL:https://hac63.nl/wordpress/event/avond4daagse-hoogeveen-2025-dag-3/
LOCATION:Atletiekbaan Hoogeveen\, Sportveldenweg 3\, Hoogeveen\, 7902NX\, Nederland
ATTACH;FMTTYPE=image/png:https://hac63.nl/wordpress/wp-content/uploads/2025/05/2.png
ORGANIZER;CN="HAC'63":MAILTO:info@hac63.nl
END:VEVENT
BEGIN:VEVENT
DTSTART;TZID=Europe/Paris:20250618T180000
DTEND;TZID=Europe/Paris:20250618T203000
DTSTAMP:20260423T133513
CREATED:20240616T153013Z
LAST-MODIFIED:20250605T201639Z
UID:52312-1750269600-1750278600@hac63.nl
SUMMARY:Avond4daagse Hoogeveen 2025 dag 2
DESCRIPTION:
URL:https://hac63.nl/wordpress/event/avond4daagse-hoogeveen-2025-dag-2/
LOCATION:Atletiekbaan Hoogeveen\, Sportveldenweg 3\, Hoogeveen\, 7902NX\, Nederland
ATTACH;FMTTYPE=image/png:https://hac63.nl/wordpress/wp-content/uploads/2025/05/2.png
ORGANIZER;CN="HAC'63":MAILTO:info@hac63.nl
END:VEVENT
BEGIN:VEVENT
DTSTART;TZID=Europe/Paris:20250618T080000
DTEND;TZID=Europe/Paris:20250618T170000
DTSTAMP:20260423T133513
CREATED:20250107T091105Z
LAST-MODIFIED:20250107T091105Z
UID:54019-1750233600-1750266000@hac63.nl
SUMMARY:Munnikenslagloop Rouveen
DESCRIPTION:
URL:https://hac63.nl/wordpress/event/munnikenslagloop-rouveen/
END:VEVENT
BEGIN:VEVENT
DTSTART;TZID=Europe/Paris:20250617T180000
DTEND;TZID=Europe/Paris:20250617T203000
DTSTAMP:20260423T133513
CREATED:20240616T152910Z
LAST-MODIFIED:20250605T201618Z
UID:52309-1750183200-1750192200@hac63.nl
SUMMARY:Avond4daagse Hoogeveen 2025 dag 1
DESCRIPTION:
URL:https://hac63.nl/wordpress/event/avond4daagse-hoogeveen-2025-dag-1/
LOCATION:Atletiekbaan Hoogeveen\, Sportveldenweg 3\, Hoogeveen\, 7902NX\, Nederland
ATTACH;FMTTYPE=image/png:https://hac63.nl/wordpress/wp-content/uploads/2025/05/2.png
ORGANIZER;CN="HAC'63":MAILTO:info@hac63.nl
END:VEVENT
BEGIN:VEVENT
DTSTART;TZID=Europe/Paris:20250613T080000
DTEND;TZID=Europe/Paris:20250613T170000
DTSTAMP:20260423T133513
CREATED:20240616T153628Z
LAST-MODIFIED:20240616T154718Z
UID:52319-1749801600-1749834000@hac63.nl
SUMMARY:Special Heroes Challenge 2025
DESCRIPTION:Stichting Special Heroes ism met gemeente Hoogeveen
URL:https://hac63.nl/wordpress/event/special-heroes-challenge-2025/
LOCATION:Atletiekbaan Hoogeveen\, Sportveldenweg 3\, Hoogeveen\, 7902NX\, Nederland
END:VEVENT
BEGIN:VEVENT
DTSTART;TZID=Europe/Paris:20250604T080000
DTEND;TZID=Europe/Paris:20250604T170000
DTSTAMP:20260423T133513
CREATED:20250107T090702Z
LAST-MODIFIED:20250107T090702Z
UID:54012-1749024000-1749056400@hac63.nl
SUMMARY:Speeltuinloop Hollandscheveld
DESCRIPTION:
URL:https://hac63.nl/wordpress/event/speeltuinloop-hollandscheveld/
END:VEVENT
BEGIN:VEVENT
DTSTART;TZID=Europe/Paris:20250521T181500
DTEND;TZID=Europe/Paris:20250521T204500
DTSTAMP:20260423T133513
CREATED:20241028T120534Z
LAST-MODIFIED:20241028T120534Z
UID:53625-1747851300-1747860300@hac63.nl
SUMMARY:Bork Uurs estafette
DESCRIPTION:Bork Uurs estafette \nWoensdag 21 mei 2025 \nStart vanaf 18: 15 uur atletiekbaan Hoogeveen \nwww.hacuur estafette.nl
URL:https://hac63.nl/wordpress/event/bork-uurs-estafette/
END:VEVENT
BEGIN:VEVENT
DTSTART;TZID=Europe/Paris:20250514T080000
DTEND;TZID=Europe/Paris:20250514T170000
DTSTAMP:20260423T133513
CREATED:20250107T090410Z
LAST-MODIFIED:20250107T092619Z
UID:54009-1747209600-1747242000@hac63.nl
SUMMARY:Erflandenrun Hoogeveen
DESCRIPTION:Praktische informatie:\nVoor-inschrijving: is mogelijk vanaf 1 januari 2025 via inschrijven.nl\nVia het formulier is het ook mogelijk om meerdere deelnemers in één keer in te schrijven\, bijvoorbeeld als je met een (deel van een) voetbalelftal wilt deelnemen. Klik op de knop ‘deelnemer toevoegen’ om na je eerste inschrijving opnieuw het inschrijfproces te doorlopen. Voorinschrijving heeft veel voordelen:\n– Je bent verzekerd van een nummer.\n– Je ontvangt GRATIS een functioneel sportshirt.\n– Je naam staat op je startummer. \nDe voorinschrijving stopt op 14 april 2025 óf eerder als we de 600 inschrijvingen behalen.\nIn 2024 moesten we een aantal na-inschrijvers teleurstellen dus wacht niet te lang met inschrijven! \nNa-inschrijving is mogelijk op de dag zelf tot een half uur van de start van het onderdeel waaraan je wilt deelnemen.\nMits het aantal van 600 inschrijvingen niet is behaald!\nNa inschrijvers ontvangen GEEN t-shirt. \nAfhalen van de startnummers en gelegenheid tot omkleden is in de school van de Erflanden: Citroenvlinder 3.\nHet afhalen van de startnummers kan op twee momenten:\n– op de dag zelf vanaf 15u.\n– op de zaterdag voorafgaand aan de Erflandenrun.\n– wel omkleedgelegenheid\, geen douchegelegenheid.\nDe voor-inschrijvers ontvangen dan ook hun T-shirt. \n\n\n\n\n\nAfstand:\n\nStarttijd:\nKosten voorinschrijving\n\nKosten na-inschrijving\n\n\nMini kidsrun 600 meter\nvoor kinderen tot en met\n6 jaar\n18:00 uur\n3\,50\n4\,50\n\n\nKidsrun 1 kilometer\nvoor kinderen t/m 10 jaar\n18:15 uur\n5\,00\n6\,00\n\n\nG-loop 1 kilometer voor alle leeftijden\n18:30 uur\n5\,00\n6\,00\n\n\nKidsrun 2 kilometer\nvoor kinderen t/m 15 jaar\n18:50 uur\n5\,00\n6\,00\n\n\n5 kilometer: vanaf 12 jaar\n19:35 uur\n9\,50\n10\,50\n\n\nPrijsuitreiking jeugdlopen en G-loop\n19:05 uur\n\n\n\n\nPrijsuitreiking 5 km\n20:30 uur\n\n\n\n\n\n\n\n\nPrijzen worden niet nagestuurd!     \n\nSpeaker van de Erflandenrun is Egbert Kats \nVoor de prijwinnaars in de verschillende jeugdcategorieën zijn er bekers en waardebonnen van Intersport Jan Bols.\nOp de 5 kilometer zijn er naast waardebonnen ook schitterende bloemen van de Gier\nAlle deelnemers ontvangen na de finish GRATIS een bidon en sportdrank van Sportvoedingwebshop.com \n\nTijdsregistratie vindt plaats d.m.v. de IPICO-chip\, deze moet bevestigd worden aan de veters door middel van de meegeleverde tie-wraps.\n\nNa de finish kunt u de Chip inleveren bij één van onze vrijwilligers bij de finishlocatie \nLET OP!!! Mocht u de IPICO tag na afloop van de wedstrijd niet ingeleverd hebben\, dan wordt er 7\,50\,- in rekening gebracht.\n \n\nOnderdelen Erflandenrun & Categorieën:\n\n\n\n\n\n600 meter\n1km (ook G-loop)\n2 km\n5  kilometer\n\n\nJongens t/m 6 jaar\nMeisjes t/m 6 jaar\nJongens en meisjes t/m10 jaar\nJongens en meisjes t/m 15 jaar\nMannen senioren\, Vrouwen senioren\nMannen 40+\, Mannen 50+\nVrouwen 35+\, Vrouwen 45+\n\n\nDe nummers 1\,2 en 3 per categorie ontvangen een beker. \nDe nummers 1\,2 en 3 per categorie ontvangen een waardebon van Intersport Jan Bols (20\,15\, en 10 euro) en een beker\nDe nummers 1\,2 en 3 per categorie ontvangen een waardebon van Intersport Jan Bols (20\,15\, en 10 euro) en een beker\nDe nummers 1\,2 en 3 per categorie ontvangen een waardebon van Intersport Jan Bols (20\,15\, en 10 euro) en een schitterende bos bloemen van De Gier Bloemen.\n\n\n\n\n\n\n\nDe OVERALL winnaar bij de mannen én vrouwen op de 5 kilometer (ongeacht categorie) ontvangt een bonus waardebon van 20 euro. \nStart en finishlocatie: \nZoals afgelopen jaren zal dit plaatsvinden bij het ‘Blauwe Pleintje’. Het ‘Vlinderplateau’ waar het Blauwe Pleintje deel van uitmaakt is geheel auto-vrij. De auto zal dus aan weerszijden van dit plein geparkeerd moeten worden\, of nog beter: kom op de fiets! \nParkeergelegenheid:\nHet ‘Vlinderplateau’ bij start en finish is geheel verkeersvrij. Aan weerszijden van de Citroenvlinder is er beperkte gelegenheid tot parkeren. Wilt u bij het parkeren erop letten dat op- en afritten niet geblokkeerd worden: we willen als organisatie graag dat de buurtbewoners zo weinig mogelijk hinder ondervinden van de Erflandenrun. \nWegafsluitingen:\nTijdens de Erflandenrun zullen er een aantal verkeersmaatregelen nodig zijn om te zorgen voor een onbelemmerde doorgang en veiligheid voor lopers en veiligheidsdiensten. Onderstaande straten zullen tussen de volgende tijden afgesloten zijn: \nTussen 17.30 en 21.00 uur (600 meter\, 1 en 2 kilometer.)\nKeizersmantel\, Parelmoervlinder\,Heivlinder\, Rotsvlinder\, Pauwoog en Atalanta (even nummers) \nTussen 19.00 en 21.00 uur (5 kilometer.)\nHeivlinder\, Rotsvlinder\, Keizersmantel\, Parelmoervlinder\, Atalanta\, Citroenvlinder Pauwoog\, Oranjetip\, Zilvervlek\, Bittervoorn\, Ruisvoorn\, Boswitje\, Aardbeivlinder\, Groot Koolwitje\, Kommavlinder \nOm de start/finish locatie op te bouwen kan het zijn dat u enige verkeershinder ondervindt ter hoogte van het Blauwe Pleintje.\nHet parcours van de kleine (1km) en de grote ronde (2\,5 km) kunt u als afbeelding vinden boven dit bericht.\nVoor alles blijft het belangrijk dat het parcours tijdens de Erflandenrun niet gekruisd kan worden.\nIndien u binnen het afgesloten gebied woont en tijdens de “afsluitingsperiode” verwacht weg te moeten\, houd hier dan rekening mee.\nU kunt bijvoorbeeld ’s middags uw voertuig al buiten het afgesloten gebied zetten.\nEr zullen op “knelpunten” verkeersregelaars en politieagenten staan. Wij verzoeken u vriendelijk hun aanwijzingen op te volgen.
URL:https://hac63.nl/wordpress/event/erflandenrun-hoogeveen/
END:VEVENT
BEGIN:VEVENT
DTSTART;TZID=Europe/Paris:20250415T070000
DTEND;TZID=Europe/Paris:20250415T164500
DTSTAMP:20260423T133513
CREATED:20250217T202232Z
LAST-MODIFIED:20250217T202546Z
UID:54288-1744700400-1744735500@hac63.nl
SUMMARY:Olympic Moves op Sportpark Bentinckspark
DESCRIPTION:Ook  de atletiekbaan wordt deze hele dag gebruikt voor dit evenement. \nSport | Atletiek\n\nDe atletiek vijfkamp bestaat uit; sprint\, kogelstoten\, verspringen\, estafette en vortex werpen. Binnen Olympic Moves wordt er in drie categorieën\, onder verdeeld in jongens en meisjes\, gestreden om het nationaal kampioenschap voor scholen: klas 1-2\, klas 3-4 en schoolteam. Controleer (vooraf aan deelname) goed het reglement\, welke rechts van deze pagina te vinden is.\n\nVoor de puntentelling maken we gebruik van Atletiek.Nu. Dit is een bekende app in de atletiekwereld die het organiseren van een regionale finale vereenvoudigd en ook voor de deelnemers zeer gebruiksvriendelijk is. Scores kunnen (direct) online bekeken worden. \n\nRegionales 2425 voor zover nu bekend:\nAlmere dinsdag 1 april\nHoogeveen dinsdag 15 april\nNijmegen 2 april\n\nOlympic Moves\, de Grootste Schoolsportcompetitie van Nederland\nSinds 2003 is​ Olympic Moves\, een samenwerking tussen KVLO en NOC*NSF\, uitgegroeid tot de grootste schoolsportcompetitie van Nederland. Elk jaar doen meer dan 400 middelbare scholen mee\, wat neerkomt op meer dan de helft van alle scholen in het land!​\nMet Olympic Moves krijgen leerlingen de kans om samen met hun klasgenoten plezier te beleven aan sport en beweging. Dit schooljaar doen maar liefst 400 scholen mee aan Olympic Moves 2024-2025! Leerlingen van heel Nederland strijden in 19 verschillende sporten om een felbegeerde plek in The School Final. Deze spectaculaire finale vindt plaats op vrijdag 6 juni 2025 in Sportcentrum Papendal en omliggende gemeenten.​
URL:https://hac63.nl/wordpress/event/olympic-moves-op-sportpark-bentinckspark/
LOCATION:Atletiekbaan Hoogeveen\, Sportveldenweg 3\, Hoogeveen\, 7902NX\, Nederland
END:VEVENT
BEGIN:VEVENT
DTSTART;VALUE=DATE:20250413
DTEND;VALUE=DATE:20250414
DTSTAMP:20260423T133513
CREATED:20241120T212342Z
LAST-MODIFIED:20241120T212342Z
UID:53755-1744502400-1744588799@hac63.nl
SUMMARY:Cascaderun Hoogeveen 2025
DESCRIPTION:De 17e editie van de Hoogeveense Cascaderun is op zondag 13 april 2025!\nJe kunt je inschrijven via Inschrijven \nIn 2026 is de Hoogeveense Cascaderun op zondag 19 april.
URL:https://hac63.nl/wordpress/event/cascaderun-hoogeveen-2025/
END:VEVENT
BEGIN:VEVENT
DTSTART;TZID=Europe/Paris:20250411T180000
DTEND;TZID=Europe/Paris:20250413T170000
DTSTAMP:20260423T133513
CREATED:20250115T141639Z
LAST-MODIFIED:20250115T141736Z
UID:54084-1744394400-1744563600@hac63.nl
SUMMARY:Jeugdkamp
DESCRIPTION:Atletiekkamp voor pupillen en junioren . Dit jaar in de Warme Bossen in Apeldoorn. \nNB: Voor wie mee wil doen met de Cascaderun op 13 april:\nHet programma wordt zo ingevuld dat iedereen dan op tijd klaarstaat om opgehaald te worden\nMaar geef vooraf wel op het kamp-opgave-formulier aan hoe laat je wordt opgehaald. \nHet kamp sluiten we gewoon af met de mensen die overblijven.
URL:https://hac63.nl/wordpress/event/jeugdkamp/
END:VEVENT
BEGIN:VEVENT
DTSTART;TZID=Europe/Paris:20250404T180000
DTEND;TZID=Europe/Paris:20250404T210000
DTSTAMP:20260423T133513
CREATED:20250107T084758Z
LAST-MODIFIED:20250107T084848Z
UID:54003-1743789600-1743800400@hac63.nl
SUMMARY:11e Boulevardloop Nieuweroord
DESCRIPTION:  \n\n\n\nDe boulevardloop zal worden gehouden op vrijdag 4 april 2025. \nProgramma:\n18.00 uur:start   450 meter  voor de kleinsten t/m 6 jaar\n18.10 uur: start 900 meter t/m 9 jaar\n18.25 uur: start 1350 meter t/m 11 jaar\n18.40 uur: start 1800 meter  t/m 14 jaar\n19.00 uur:  start 4Mijl dames en heren\n(groepsindeling ondervoorbehoud)\nStart/Finish:\nMiddenraai te Nieuweroord tegenover de Vuurkorf \nInschrijfgeld:\nKinderen t/m 14 jaar gratis\n4Mijl  € 5\,00 \nInschrijven:\nInschrijven kan op www.inschrijven.nl . \nPrijzen:\nPer categorie drie prijzen voor zowel jongens als meisjes als dames en heren. Ook voor de snelste Nieuweroorder zowel vrouw en man is er ook een prijs. \nInformatie:\nTelefoon: Mirjam Gort-Salomons\, tel.nr. 06-18974536. \nE-mail: sportvereniging_nieuweroord@hotmail.com \nParcours:\nJeugd: start/finish op Middenraai\, Kardiekie\, Splitting\, Eerste Wijk. \n4Mijl: start/finish op Middenraai\, Hoogeveense Vaart\, halverwege retour via Hoogeveense vaart\, Van de Wall Bakestraat\, de Ring\, Slag\, Eerste wijk\, Splitting\, Middenraai. Dit rondje wordt tweemaal gelopen.
URL:https://hac63.nl/wordpress/event/11e-boulevardloop-nieuweroord/
END:VEVENT
BEGIN:VEVENT
DTSTART;TZID=Europe/Paris:20250401T193000
DTEND;TZID=Europe/Paris:20250401T204500
DTSTAMP:20260423T133513
CREATED:20241028T120434Z
LAST-MODIFIED:20241028T120434Z
UID:53623-1743535800-1743540300@hac63.nl
SUMMARY:Primera de Haan 4 mijl run
DESCRIPTION:Primera de Haan 4 mijl run \nDinsdag 01 april 2025 \nStart vanaf 19: 30 uur atletiekbaan Hoogeveen \nwww.primerarun.nl
URL:https://hac63.nl/wordpress/event/primera-de-haan-4-mijl-run-2/
END:VEVENT
BEGIN:VEVENT
DTSTART;TZID=Europe/Paris:20250315T140000
DTEND;TZID=Europe/Paris:20250315T170000
DTSTAMP:20260423T133513
CREATED:20250107T085719Z
LAST-MODIFIED:20250107T085719Z
UID:54007-1742047200-1742058000@hac63.nl
SUMMARY:Kroeg tot Kroegloop 2025
DESCRIPTION:Op 15 Maart 2025 wordt de ‘Kroeg tot Kroeg loop’ weer georganiseerd! De loop begint om 16.00 uur en er wordt gelopen van café Hees in Ruinen naar café de Kastelein in Ruinerwold een parcours van één rechte lijn\, met een afstand van 9\,4 km. Het unieke karakter van deze loop is dat het een goed doel steunt\, een groot deel van de startgelden is daarvoor bestemd.\n\n \nHet goede doel is dit jaar:   Stichting Wensambulance Noord Nederland \nStichting Wensambulance Noord Nederland wil ernstig zieke mensen\,\nmet een beperkte levensverwachting\, de mogelijkheid bieden\nom op geheel eigen wijze afscheid van hun leven te kunnen nemen. Wij willen mensen uit Noord-Nederland d.m.v. begeleidend ambulancevervoer helpen een laatste wens in vervulling te laten gaan\, en zo een laatste mooie herinnering aan het leven toe te voegen.\nWij zijn aangesloten bij de Samenwerkende Wensambulances Nederland  \n\n————————————————————————————————————\nDeelname is vanaf 16 jaar en inschrijven kan tot 15 minuten vóór de start bij  Café in Ruinen  . Bij voorinschrijving online zijn de kosten € 8\,00  en op de wedstrijddag zelf ter plaatse kost het €10\,00 p.p. Een grootdeel van dit inschrijfgeld komt ten goede aan: Wensambulance Noord Nederland. Om de opbrengst voor Wensambulance zo hoog mogelijk te maken heeft de organisatie van de Kroeg tot Kroegloop besloten geen herinneringen uit te delen. \n\n\nDeelnemers worden verdeeld over de volgende categorieën: \n· Heren 16 t/m 39 jaar\n· Dames 16 t/m 39 jaar\n· Heren Masters 40+\n· Heren Masters 50+\n· Heren Masters 60+\n· Dames Masters 40+\n· Dames Masters 50+ \nVervoer terug naar startplaats. De deelnemers krijgen de mogelijkheid om voor gereduceerd tarief met Taxi Ten Heuvel terug te reizen naar de startplaats. De taxi rijdt vanaf 14:30 uur ook van de finishplaats naar de start/inschrijving. Ook is er een mogelijkheid om kleding van de start naar de finish te laten vervoeren. \nMeer informatie en inschrijven vind je op deze website\nVragen? Stuur dan een e-mail naar kroegloop@live.nl.
URL:https://hac63.nl/wordpress/event/kroeg-tot-kroegloop-2025/
END:VEVENT
BEGIN:VEVENT
DTSTART;TZID=Europe/Paris:20250304T190000
DTEND;TZID=Europe/Paris:20250304T204500
DTSTAMP:20260423T133513
CREATED:20241028T120328Z
LAST-MODIFIED:20241028T120328Z
UID:53621-1741114800-1741121100@hac63.nl
SUMMARY:LB Chick’n Coopertest
DESCRIPTION:LB Chick’n Coopertest \nDinsdag  04 maart 2025 \nStart vanaf 19:00 uur atletiekbaan Hoogeveen \nwww. labrochettecoopertest.nl \n6 minuten voor de jeugd tot en met 12 jaar en g lopers \n12 minuten voor iedereen vanaf 13 jaar
URL:https://hac63.nl/wordpress/event/lb-chickn-coopertest-3/
END:VEVENT
BEGIN:VEVENT
DTSTART;TZID=Europe/Paris:20250112T110000
DTEND;TZID=Europe/Paris:20250112T170000
DTSTAMP:20260423T133513
CREATED:20231203T202335Z
LAST-MODIFIED:20241014T111154Z
UID:49011-1736679600-1736701200@hac63.nl
SUMMARY:Intersport Jan Bols Bentinckspark Run en Obstacle Run 2025
DESCRIPTION:Start vanaf 11:00 uur vanaf terrein vv Hoogeveen. \nMeer info via www.bentincksparkrun.nl
URL:https://hac63.nl/wordpress/event/intersport-jan-bols-bentinckspark-run-en-obstacle-run-2024-2/
LOCATION:Atletiekbaan Hoogeveen\, Sportveldenweg 3\, Hoogeveen\, 7902NX\, Nederland
END:VEVENT
BEGIN:VEVENT
DTSTART;TZID=Europe/Paris:20250107T200000
DTEND;TZID=Europe/Paris:20250107T213000
DTSTAMP:20260423T133513
CREATED:20241022T204531Z
LAST-MODIFIED:20250104T200418Z
UID:53612-1736280000-1736285400@hac63.nl
SUMMARY:Nieuwjaarsreceptie
DESCRIPTION:Proosten op het nieuwe jaar in het Sportcafé met \n\n19:30 uur: Uitreiking prijzen Kerstactie en bekendmaking A-Atleet van het jaar 2024 HAC’63\n20:30 uur: Uitreiking prijzen Hypotheekcentrumcompetitie en bekendmaking Sportman\, Sportvrouw en Sportploeg van het jaar 2024 HAC’63\n\nTot 7 januari! \n 
URL:https://hac63.nl/wordpress/event/nieuwjaarsreceptie-2/
LOCATION:Atletiekbaan Hoogeveen\, Sportveldenweg 3\, Hoogeveen\, 7902NX\, Nederland
END:VEVENT
BEGIN:VEVENT
DTSTART;TZID=Europe/Paris:20241110T080000
DTEND;TZID=Europe/Paris:20241110T170000
DTSTAMP:20260423T133513
CREATED:20231212T144147Z
LAST-MODIFIED:20240925T082936Z
UID:49163-1731225600-1731258000@hac63.nl
SUMMARY:Schoonhovencross
DESCRIPTION:Telt mee voor Hypotheekcentrumcompetitie!
URL:https://hac63.nl/wordpress/event/schoonhovencross-2/
END:VEVENT
BEGIN:VEVENT
DTSTART;TZID=Europe/Paris:20241008T190000
DTEND;TZID=Europe/Paris:20241008T204500
DTSTAMP:20260423T133513
CREATED:20231203T210121Z
LAST-MODIFIED:20240924T145358Z
UID:49017-1728414000-1728420300@hac63.nl
SUMMARY:LB Chick'n Coopertest
DESCRIPTION:   \nStart vanaf 19:00 uur atletiekbaan Hoogeveen \n\n6 minutentest voor de jeugd t/m 12 jaar en A-atleten\n12 minutentest voor iedereen van 13 jaar en ouder
URL:https://hac63.nl/wordpress/event/lb-chickn-coopertest-2/
LOCATION:Atletiekbaan Hoogeveen\, Sportveldenweg 3\, Hoogeveen\, 7902NX\, Nederland
END:VEVENT
BEGIN:VEVENT
DTSTART;TZID=Europe/Paris:20241006T080000
DTEND;TZID=Europe/Paris:20241006T170000
DTSTAMP:20260423T133513
CREATED:20231212T143857Z
LAST-MODIFIED:20231212T144003Z
UID:49159-1728201600-1728234000@hac63.nl
SUMMARY:Lexis Crossloop
DESCRIPTION:telt mee voor Hypotheekcentrum Competitie \n5/10km Zuidwolde\nwww.loopgroepzuidwolde.nl
URL:https://hac63.nl/wordpress/event/lexis-crossloop-2/
END:VEVENT
BEGIN:VEVENT
DTSTART;TZID=Europe/Paris:20240928T100000
DTEND;TZID=Europe/Paris:20240928T170000
DTSTAMP:20260423T133513
CREATED:20231203T201838Z
LAST-MODIFIED:20231203T201838Z
UID:49006-1727517600-1727542800@hac63.nl
SUMMARY:Clubkampioenschappen 100 meter en 3 km
DESCRIPTION:nadere info volgt!
URL:https://hac63.nl/wordpress/event/clubkampioenschappen-100-meter-en-3-km/
LOCATION:Atletiekbaan Hoogeveen\, Sportveldenweg 3\, Hoogeveen\, 7902NX\, Nederland
END:VEVENT
BEGIN:VEVENT
DTSTART;TZID=Europe/Paris:20240921T080000
DTEND;TZID=Europe/Paris:20240921T170000
DTSTAMP:20260423T133513
CREATED:20231212T143140Z
LAST-MODIFIED:20240305T082312Z
UID:49157-1726905600-1726938000@hac63.nl
SUMMARY:Pesserrun
DESCRIPTION:5/10km Pesse\nwww.pesserrun.jimdosite.com \nTelt mee voor Hypotheekcentrumcompetitie
URL:https://hac63.nl/wordpress/event/pesserrun-3/
END:VEVENT
BEGIN:VEVENT
DTSTART;TZID=Europe/Paris:20240914T100000
DTEND;TZID=Europe/Paris:20240914T140000
DTSTAMP:20260423T133513
CREATED:20240610T130239Z
LAST-MODIFIED:20240610T130239Z
UID:50584-1726308000-1726322400@hac63.nl
SUMMARY:Open Sportclub dag bij HAC'63
DESCRIPTION:4e editie van Hoogeveen Sport! Open Sportclub dag. \nHAC’63 doet natuurlijk ook mee!
URL:https://hac63.nl/wordpress/event/open-sportclub-dag-bij-hac63/
ORGANIZER;CN="HAC'63":MAILTO:info@hac63.nl
END:VEVENT
BEGIN:VEVENT
DTSTART;TZID=Europe/Paris:20240828T080000
DTEND;TZID=Europe/Paris:20240828T170000
DTSTAMP:20260423T133513
CREATED:20231212T142828Z
LAST-MODIFIED:20231212T142920Z
UID:49155-1724832000-1724864400@hac63.nl
SUMMARY:Alkeloop
DESCRIPTION:Afstanden:  5/10km Alteveer \nmeer info:  www.www.alkeloop.nl \nDeze loop telt mee voor de Hypotheekcentrumcompetitie
URL:https://hac63.nl/wordpress/event/alkeloop-2/
END:VEVENT
END:VCALENDAR