BEGIN:VCALENDAR
VERSION:2.0
PRODID:-//HAC &#039;63 - ECPv6.2.6//NONSGML v1.0//EN
CALSCALE:GREGORIAN
METHOD:PUBLISH
X-WR-CALNAME:HAC &#039;63
X-ORIGINAL-URL:https://hac63.nl/wordpress
X-WR-CALDESC:Evenementen voor HAC &#039;63
REFRESH-INTERVAL;VALUE=DURATION:PT1H
X-Robots-Tag:noindex
X-PUBLISHED-TTL:PT1H
BEGIN:VTIMEZONE
TZID:Europe/Paris
BEGIN:DAYLIGHT
TZOFFSETFROM:+0100
TZOFFSETTO:+0200
TZNAME:CEST
DTSTART:20170326T010000
END:DAYLIGHT
BEGIN:STANDARD
TZOFFSETFROM:+0200
TZOFFSETTO:+0100
TZNAME:CET
DTSTART:20171029T010000
END:STANDARD
BEGIN:DAYLIGHT
TZOFFSETFROM:+0100
TZOFFSETTO:+0200
TZNAME:CEST
DTSTART:20180325T010000
END:DAYLIGHT
BEGIN:STANDARD
TZOFFSETFROM:+0200
TZOFFSETTO:+0100
TZNAME:CET
DTSTART:20181028T010000
END:STANDARD
END:VTIMEZONE
BEGIN:VEVENT
DTSTART;TZID=Europe/Paris:20181011T190000
DTEND;TZID=Europe/Paris:20181011T203000
DTSTAMP:20260425T151337
CREATED:20180910T214933Z
LAST-MODIFIED:20180910T214933Z
UID:2269-1539284400-1539289800@hac63.nl
SUMMARY:coopertest
DESCRIPTION:
URL:https://hac63.nl/wordpress/event/coopertest/
ATTACH;FMTTYPE=image/jpeg:https://hac63.nl/wordpress/wp-content/uploads/2018/09/coopertest.jpg
END:VEVENT
BEGIN:VEVENT
DTSTART;TZID=Europe/Paris:20180921T080000
DTEND;TZID=Europe/Paris:20180922T170000
DTSTAMP:20260425T151337
CREATED:20180910T215929Z
LAST-MODIFIED:20180910T215929Z
UID:2275-1537516800-1537635600@hac63.nl
SUMMARY:Clubkampioenschappen
DESCRIPTION:
URL:https://hac63.nl/wordpress/event/clubkampioenschappen-2/
ATTACH;FMTTYPE=image/jpeg:https://hac63.nl/wordpress/wp-content/uploads/2018/09/ck2018.jpg
END:VEVENT
BEGIN:VEVENT
DTSTART;TZID=Europe/Paris:20180609T130000
DTEND;TZID=Europe/Paris:20180609T170000
DTSTAMP:20260425T151337
CREATED:20180430T195615Z
LAST-MODIFIED:20180603T215337Z
UID:2126-1528549200-1528563600@hac63.nl
SUMMARY:10 venenloop
DESCRIPTION:voorinschrijving tot 5 juni / nainschrijving \n1km gratis\n2km gratis \n5km € 5\,00/€ 7\,50\n10km € 7\,50/€ 10\,00\n21.1km € 12\,50/€ 15\,00
URL:https://hac63.nl/wordpress/event/10-venenloop/
LOCATION:Tiendeveen
ORGANIZER;CN="HAC'63":MAILTO:info@hac63.nl
END:VEVENT
BEGIN:VEVENT
DTSTART;TZID=Europe/Paris:20180530T181500
DTEND;TZID=Europe/Paris:20180530T210000
DTSTAMP:20260425T151337
CREATED:20180411T210041Z
LAST-MODIFIED:20180423T182557Z
UID:2110-1527704100-1527714000@hac63.nl
SUMMARY:Simone FM uursestafette
DESCRIPTION:
URL:https://hac63.nl/wordpress/event/simone-fm-uursestafette-2/
LOCATION:Bentinckspark\, Sportveldenweg\, Hoogeveen\, 7902 NX
ORGANIZER;CN="HAC'63":MAILTO:info@hac63.nl
END:VEVENT
BEGIN:VEVENT
DTSTART;TZID=Europe/Paris:20180403T193000
DTEND;TZID=Europe/Paris:20180403T193000
DTSTAMP:20260425T151337
CREATED:20180320T221405Z
LAST-MODIFIED:20180320T221423Z
UID:2073-1522783800-1522783800@hac63.nl
SUMMARY:Primera de Haan 4 mijlrun 2018
DESCRIPTION:
URL:https://hac63.nl/wordpress/event/primera-de-haan-run-2018/
LOCATION:Bentinckspark\, Sportveldenweg\, Hoogeveen\, 7902 NX
ATTACH;FMTTYPE=image/jpeg:https://hac63.nl/wordpress/wp-content/uploads/2018/03/PR18.jpg
ORGANIZER;CN="HAC'63":MAILTO:info@hac63.nl
END:VEVENT
BEGIN:VEVENT
DTSTART;TZID=Europe/Paris:20180313T190000
DTEND;TZID=Europe/Paris:20180313T210000
DTSTAMP:20260425T151337
CREATED:20180304T123904Z
LAST-MODIFIED:20180304T123904Z
UID:2033-1520967600-1520974800@hac63.nl
SUMMARY:La Brochette Coopertest
DESCRIPTION:
URL:https://hac63.nl/wordpress/event/la-brochette-coopertest-2/
LOCATION:Bentinckspark\, Sportveldenweg\, Hoogeveen\, 7902 NX
ATTACH;FMTTYPE=image/jpeg:https://hac63.nl/wordpress/wp-content/uploads/2018/03/coopertest-flyer.jpg
ORGANIZER;CN="HAC'63":MAILTO:info@hac63.nl
END:VEVENT
BEGIN:VEVENT
DTSTART;VALUE=DATE:20180114
DTEND;VALUE=DATE:20180115
DTSTAMP:20260425T151337
CREATED:20171108T102504Z
LAST-MODIFIED:20171108T102504Z
UID:1728-1515888000-1515974399@hac63.nl
SUMMARY:Runnersworld Bentincksparkrun
DESCRIPTION:Bentincksparkrun: \n5.000 meter \n10.000 meter \nElftalrun onderdelen: \n1 km (tot 12 jaar) \n2\,5 km (tot 15 jaar)\, \n5 km (vanaf 15 jaar) \n10 km (vanaf 16 jaar) \nG-Runners: \n300 meter \n600 meter \n1 kilometer
URL:https://hac63.nl/wordpress/event/runnersworld-bentincksparkrun/
LOCATION:Activum\, Sportpark Hoogeveen\, Sportveldenweg 2\, Hoogeveen\, Drenthe\, 7902NX\, Nederland
END:VEVENT
BEGIN:VEVENT
DTSTART;TZID=Europe/Paris:20180109T203000
DTEND;TZID=Europe/Paris:20180109T220000
DTSTAMP:20260425T151337
CREATED:20171205T160128Z
LAST-MODIFIED:20171205T160128Z
UID:1900-1515529800-1515535200@hac63.nl
SUMMARY:Nieuwjaarsreceptie
DESCRIPTION:
URL:https://hac63.nl/wordpress/event/nieuwjaarsreceptie/
ATTACH;FMTTYPE=image/jpeg:https://hac63.nl/wordpress/wp-content/uploads/2017/12/Nieuwjaarsreceptie-2018.jpg
END:VEVENT
BEGIN:VEVENT
DTSTART;TZID=Europe/Paris:20171026T180000
DTEND;TZID=Europe/Paris:20171026T213000
DTSTAMP:20260425T151337
CREATED:20170418T153532Z
LAST-MODIFIED:20170418T153532Z
UID:1106-1509040800-1509053400@hac63.nl
SUMMARY:La Brochette Coopertest
DESCRIPTION:
URL:https://hac63.nl/wordpress/event/la-brochette-coopertest/
LOCATION:Bentinckspark\, Sportveldenweg\, Hoogeveen\, 7902 NX
ATTACH;FMTTYPE=image/jpeg:https://hac63.nl/wordpress/wp-content/uploads/2017/03/coopertestbanner.jpg
ORGANIZER;CN="HAC'63":MAILTO:info@hac63.nl
END:VEVENT
BEGIN:VEVENT
DTSTART;TZID=Europe/Paris:20171015T130000
DTEND;TZID=Europe/Paris:20171015T150000
DTSTAMP:20260425T151337
CREATED:20170717T232226Z
LAST-MODIFIED:20170922T223236Z
UID:1449-1508072400-1508079600@hac63.nl
SUMMARY:Bork Stuifzandrun
DESCRIPTION:omkleedruimtes aanwezig\, geen mogelijkheid tot douchen.
URL:https://hac63.nl/wordpress/event/bork-stuifzandrun/
LOCATION:Dorpshuis Stuifzand\, Hoofdweg 8 \, Stuifzand
ATTACH;FMTTYPE=application/pdf:https://hac63.nl/wordpress/wp-content/uploads/2017/07/flyer-bork-stuifzandrun.pdf
ORGANIZER;CN="HAC'63":MAILTO:info@hac63.nl
END:VEVENT
BEGIN:VEVENT
DTSTART;VALUE=DATE:20171015
DTEND;VALUE=DATE:20171016
DTSTAMP:20260425T151337
CREATED:20170629T090321Z
LAST-MODIFIED:20170629T090321Z
UID:1391-1508025600-1508111999@hac63.nl
SUMMARY:NK marathon senioren en masters
DESCRIPTION:
URL:https://hac63.nl/wordpress/event/nk-marathon-senioren-en-masters/
LOCATION:Amsterdam
END:VEVENT
BEGIN:VEVENT
DTSTART;TZID=Europe/Paris:20170930T080000
DTEND;TZID=Europe/Paris:20171001T170000
DTSTAMP:20260425T151337
CREATED:20170629T085905Z
LAST-MODIFIED:20170629T085905Z
UID:1386-1506758400-1506877200@hac63.nl
SUMMARY:NK werpvijfkamp\, gewichtwerpen en kogelslingeren
DESCRIPTION:
URL:https://hac63.nl/wordpress/event/nk-werpvijfkamp-gewichtwerpen-en-kogelslingeren/
LOCATION:Zutphen
END:VEVENT
BEGIN:VEVENT
DTSTART;TZID=Europe/Paris:20170929T190000
DTEND;TZID=Europe/Paris:20170930T170000
DTSTAMP:20260425T151337
CREATED:20170912T095840Z
LAST-MODIFIED:20170912T100000Z
UID:1569-1506711600-1506790800@hac63.nl
SUMMARY:Clubkampioenschappen
DESCRIPTION:Pupillen Mini en C: (start om 12 uur)\nSprint\, ver\, hurkhoogspringen\, balstoten\, vortex en 600m \nPupillen B: (start om 12 uur)\nSprint\, hoog\, ver\, balstoten\, vortex en 1000m \nPupillen A: (start om 11 uur)\nSprint\, hoog\, ver\, kogel\, vortex en 1000m \nJunioren\, senioren en masters: (zaterdag start om 10 uur)\nVrijdagavond: discus en hoog\nZaterdag: sprint\, kogel\, speer\, ver\, polsstokhoog en 800m \nVB atleten: (zaterdag start om 10 uur)\nVrijdagavond: discus\nZaterdag: sprint\, kogel\, speer\, ver\, hoog en 800m \nInschrijven via: https://www.atletiek.nu/wedstrijd/main/16506/\nDeelname = Gratis
URL:https://hac63.nl/wordpress/event/clubkampioenschappen/
LOCATION:Activum\, Sportpark Hoogeveen\, Sportveldenweg 2\, Hoogeveen\, Drenthe\, 7902NX\, Nederland
ORGANIZER;CN="HAC'63":MAILTO:info@hac63.nl
END:VEVENT
BEGIN:VEVENT
DTSTART;TZID=Europe/Paris:20170909T080000
DTEND;TZID=Europe/Paris:20170910T170000
DTSTAMP:20260425T151337
CREATED:20170629T085327Z
LAST-MODIFIED:20170629T085327Z
UID:1383-1504944000-1505062800@hac63.nl
SUMMARY:NK 100 km
DESCRIPTION:Het Nationale Kampioenschap  100km senioren en masters
URL:https://hac63.nl/wordpress/event/nk-100-km/
END:VEVENT
BEGIN:VEVENT
DTSTART;VALUE=DATE:20170909
DTEND;VALUE=DATE:20170910
DTSTAMP:20260425T151337
CREATED:20170719T113352Z
LAST-MODIFIED:20170719T113352Z
UID:1469-1504915200-1505001599@hac63.nl
SUMMARY:Nationale D-spelen
DESCRIPTION:
URL:https://hac63.nl/wordpress/event/nationale-d-spelen/
LOCATION:Olympisch Stadion 1\, 1076 DE Amsterdam
END:VEVENT
BEGIN:VEVENT
DTSTART;TZID=Europe/Paris:20170826T080000
DTEND;TZID=Europe/Paris:20170827T170000
DTSTAMP:20260425T151337
CREATED:20170719T112607Z
LAST-MODIFIED:20170719T112607Z
UID:1466-1503734400-1503853200@hac63.nl
SUMMARY:Nationale C-spelen
DESCRIPTION:
URL:https://hac63.nl/wordpress/event/nationale-c-spelen/
LOCATION:Willinklaan 7\, 1067 SL Amsterdam
END:VEVENT
BEGIN:VEVENT
DTSTART;TZID=Europe/Paris:20170727T080000
DTEND;TZID=Europe/Paris:20170806T170000
DTSTAMP:20260425T151337
CREATED:20170719T125511Z
LAST-MODIFIED:20170719T125511Z
UID:1473-1501142400-1502038800@hac63.nl
SUMMARY:Europees Kampioenschap Masters (Denemarken)
DESCRIPTION:
URL:https://hac63.nl/wordpress/event/europees-kampioenschap-masters-denemarken/
LOCATION:Arhus\, Denemarken
END:VEVENT
BEGIN:VEVENT
DTSTART;TZID=Europe/Paris:20170713T170000
DTEND;TZID=Europe/Paris:20170716T173000
DTSTAMP:20260425T151337
CREATED:20170629T084956Z
LAST-MODIFIED:20170629T084956Z
UID:1379-1499965200-1500226200@hac63.nl
SUMMARY:NK atletiek
DESCRIPTION:Het nationale kampioenschap voor senioren(18-35)
URL:https://hac63.nl/wordpress/event/nk-atletiek/
LOCATION:Mytylweg 79\, 3585 LK Utrecht
END:VEVENT
BEGIN:VEVENT
DTSTART;TZID=Europe/Paris:20170708T100000
DTEND;TZID=Europe/Paris:20170708T130000
DTSTAMP:20260425T151337
CREATED:20170604T202625Z
LAST-MODIFIED:20170604T202625Z
UID:1296-1499508000-1499518800@hac63.nl
SUMMARY:Onderlinge 4 kamp HAC'63
DESCRIPTION:
URL:https://hac63.nl/wordpress/event/onderlinge-4-kamp-hac63/
ORGANIZER;CN="HAC'63":MAILTO:info@hac63.nl
END:VEVENT
BEGIN:VEVENT
DTSTART;TZID=Europe/Paris:20170630T170000
DTEND;TZID=Europe/Paris:20170702T190000
DTSTAMP:20260425T151337
CREATED:20170629T084054Z
LAST-MODIFIED:20170629T084054Z
UID:1375-1498842000-1499022000@hac63.nl
SUMMARY:NK Junioren
DESCRIPTION:Het nationale kampioenschap voor junioren A en junioren B
URL:https://hac63.nl/wordpress/event/nk-junioren/
LOCATION:Sportlaan 1\, 5263 Vught
END:VEVENT
BEGIN:VEVENT
DTSTART;TZID=Europe/Paris:20170618T100000
DTEND;TZID=Europe/Paris:20170618T140000
DTSTAMP:20260425T151337
CREATED:20170418T155941Z
LAST-MODIFIED:20170418T155941Z
UID:1108-1497780000-1497794400@hac63.nl
SUMMARY:10 Km van Nederland
DESCRIPTION:1 km kidsrun( 4 euro)\n5 km (vroege inschrijving: 12 euro( tot 18 mei)\, daarna 14 euro )\n10 km (vroege inschrijving: 16 euro( tot 18 mei)\, daarna 18 euro ) \nInschrijving online
URL:https://hac63.nl/wordpress/event/10-km-van-nederland/
LOCATION:Bentinckspark\, Sportveldenweg\, Hoogeveen\, 7902 NX
ATTACH;FMTTYPE=image/png:https://hac63.nl/wordpress/wp-content/uploads/2017/04/RexonaRun_Hoogeveen.png
ORGANIZER;CN="HAC'63":MAILTO:info@hac63.nl
END:VEVENT
BEGIN:VEVENT
DTSTART;VALUE=DATE:20170613
DTEND;VALUE=DATE:20170617
DTSTAMP:20260425T151337
CREATED:20170411T141142Z
LAST-MODIFIED:20170411T141455Z
UID:1094-1497312000-1497657599@hac63.nl
SUMMARY:Hoogeveense Avond4Daagse
DESCRIPTION:Bekijk alle informatie op de speciale Hoogeveense Avond4Daagse website
URL:https://hac63.nl/wordpress/event/avond4daagse-14/
LOCATION:Bentinckspark\, Sportveldenweg\, Hoogeveen\, 7902 NX
END:VEVENT
BEGIN:VEVENT
DTSTART;TZID=Europe/Paris:20170531T181500
DTEND;TZID=Europe/Paris:20170531T211500
DTSTAMP:20260425T151337
CREATED:20170410T213632Z
LAST-MODIFIED:20170410T214131Z
UID:1086-1496254500-1496265300@hac63.nl
SUMMARY:Simone FM uursestafette
DESCRIPTION:Tijden:\nHalf uursestafette: 18.15-18.45\nbedrijven uursestafette: 19.00-20.00\nUursestafette: 20.15-21.15 \nKosten:\n10 euro per team (4 personen) \nInschrijven:\nmail je team met 4 lopers door naar simonefm@hac63.nl \nSluiting inschrijving:\n28 mei 23.59 uur\nGeen na-inschrijving mogelijk \nTeams:\nMannen en Vrouwen teams\nGemengde teams vallen onder de mannen
URL:https://hac63.nl/wordpress/event/simone-fm-uursestafette/
LOCATION:Bentinckspark\, Sportveldenweg\, Hoogeveen\, 7902 NX
ATTACH;FMTTYPE=image/jpeg:https://hac63.nl/wordpress/wp-content/uploads/2017/04/rnd243876.jpg
ORGANIZER;CN="HAC'63":MAILTO:info@hac63.nl
END:VEVENT
BEGIN:VEVENT
DTSTART;TZID=Europe/Paris:20170408T095500
DTEND;TZID=Europe/Paris:20170408T170000
DTSTAMP:20260425T151337
CREATED:20170404T164053Z
LAST-MODIFIED:20170404T164053Z
UID:1068-1491645300-1491670800@hac63.nl
SUMMARY:Cascaderun
DESCRIPTION:
URL:https://hac63.nl/wordpress/event/cascaderun/
LOCATION:Activum\, Sportpark Hoogeveen\, Sportveldenweg 2\, Hoogeveen\, Drenthe\, 7902NX\, Nederland
END:VEVENT
BEGIN:VEVENT
DTSTART;TZID=Europe/Paris:20170331T180000
DTEND;TZID=Europe/Paris:20170331T203000
DTSTAMP:20260425T151337
CREATED:20170201T083217Z
LAST-MODIFIED:20170201T083427Z
UID:777-1490983200-1490992200@hac63.nl
SUMMARY:6e Boulevardloop Nieuweroord
DESCRIPTION:Vrijdag 31 maart 2017 vindt de 6e Boulevardloop van Nieuweroord plaats.\nEen hardloopwedstrijd over 4 Mijl door en rond het prachtige dorp Nieuweroord.\nVoor de jeugd is er een hardloopwedstrijd voor diverse categorieën over verschillende afstanden.  \nProgramma:  \n18.00 uur: start 450 meter voor de kleinsten t/m 6 jaar \n18.10 uur: start 900 meter t/m 9 jaar \n18.25 uur: start 1350 meter t/m 11 jaar \n18.40 uur: start 1800 meter t/m 14 jaar \n19.00 uur: start 4Mijl dames en heren  \nInschrijven: www.inschrijven.nl\nInschrijven: www.uitslagen.nl
URL:https://hac63.nl/wordpress/event/6e-boulevardloop-nieuweroord/
END:VEVENT
BEGIN:VEVENT
DTSTART;TZID=Europe/Paris:20170328T193000
DTEND;TZID=Europe/Paris:20170328T210000
DTSTAMP:20260425T151337
CREATED:20170208T220403Z
LAST-MODIFIED:20170208T220629Z
UID:826-1490729400-1490734800@hac63.nl
SUMMARY:Primera de Haan 4 mijlrun
DESCRIPTION:
URL:https://hac63.nl/wordpress/event/826/
ATTACH;FMTTYPE=image/jpeg:https://hac63.nl/wordpress/wp-content/uploads/2017/02/61371_flyer-Primera.jpg
ORGANIZER;CN="HAC'63":MAILTO:info@hac63.nl
END:VEVENT
BEGIN:VEVENT
DTSTART;TZID=Europe/Paris:20170325T133000
DTEND;TZID=Europe/Paris:20170325T170000
DTSTAMP:20260425T151337
CREATED:20170123T122951Z
LAST-MODIFIED:20170123T122951Z
UID:691-1490448600-1490461200@hac63.nl
SUMMARY:Viaductenloop
DESCRIPTION:Kou\, sneeuw\, storm of regen?!\nGa jij de uitdaging aan? Schrijf je nu alvast in voor de 3e Zuudwoldiger Viaductenloop op zaterdag 25 maart 2017.\nDeze wedstrijd is een ideale voorbereidingswedstrijd voor de Cascaderun in Hoogeveen.\nDe afstanden zullen net als vorig jaar 2\,5 en 5 E.M.(4 en 8 km) zijn.
URL:https://hac63.nl/wordpress/event/viaductenloop/
LOCATION:Zuidwolde\, Nijverheidsweg 43\, Zuidwolde\, 7921 JH 
END:VEVENT
BEGIN:VEVENT
DTSTART;TZID=Europe/Paris:20170318T160000
DTEND;TZID=Europe/Paris:20170318T180000
DTSTAMP:20260425T151337
CREATED:20170123T091439Z
LAST-MODIFIED:20170123T091746Z
UID:678-1489852800-1489860000@hac63.nl
SUMMARY:Kroeg tot Kroegloop
DESCRIPTION:Op 19 maart 2016 wordt de ‘Kroeg tot Kroegloop’ weer georganiseerd! De loop begint om 16:00 en er wordt gelopen van café de Kastelein in Ruinerwold naar de Herberg van Rune\, een parcours van één rechte lijn\, met een afstand van 9 kilometer. \n  \n  \n 
URL:https://hac63.nl/wordpress/event/kroeg-tot-kroegloop/
LOCATION:Ruinerwold\, Ruinerwold
END:VEVENT
BEGIN:VEVENT
DTSTART;TZID=Europe/Paris:20170318T130000
DTEND;TZID=Europe/Paris:20170318T170000
DTSTAMP:20260425T151337
CREATED:20170123T090108Z
LAST-MODIFIED:20170123T090548Z
UID:675-1489842000-1489856400@hac63.nl
SUMMARY:Lenteloop
DESCRIPTION:13:00 1 km  \nPupillen B (2008)\, pupillen A (2006/2007) en VB \n13:15 2 km \nJunioren D (2004/2005)\, junioren C (2002/2003) en VB \n14:35 5 km \nA/B junioren\, senioren en masters (M/V) \n14:30 10 km \nA/B junioren\, senioren en masters (M/V)
URL:https://hac63.nl/wordpress/event/lenteloop/
LOCATION:EAC de Sperwers\, Ullevi 1\, Emmen
END:VEVENT
BEGIN:VEVENT
DTSTART;TZID=Europe/Paris:20170312T093000
DTEND;TZID=Europe/Paris:20170312T170000
DTSTAMP:20260425T151337
CREATED:20170221T230348Z
LAST-MODIFIED:20170221T230805Z
UID:879-1489311000-1489338000@hac63.nl
SUMMARY:Runnersworld Bentincksparkrun
DESCRIPTION:De tweede poging van de eerste editie van de Runnersworld Bentincksparkrun
URL:https://hac63.nl/wordpress/event/879/
LOCATION:Bentinckspark\, Sportveldenweg\, Hoogeveen\, 7902 NX
ORGANIZER;CN="HAC'63":MAILTO:info@hac63.nl
END:VEVENT
END:VCALENDAR