BEGIN:VCALENDAR
VERSION:2.0
PRODID:-//HAC &#039;63 - ECPv6.2.6//NONSGML v1.0//EN
CALSCALE:GREGORIAN
METHOD:PUBLISH
X-WR-CALNAME:HAC &#039;63
X-ORIGINAL-URL:https://hac63.nl/wordpress
X-WR-CALDESC:Evenementen voor HAC &#039;63
REFRESH-INTERVAL;VALUE=DURATION:PT1H
X-Robots-Tag:noindex
X-PUBLISHED-TTL:PT1H
BEGIN:VTIMEZONE
TZID:Europe/Paris
BEGIN:DAYLIGHT
TZOFFSETFROM:+0100
TZOFFSETTO:+0200
TZNAME:CEST
DTSTART:20170326T010000
END:DAYLIGHT
BEGIN:STANDARD
TZOFFSETFROM:+0200
TZOFFSETTO:+0100
TZNAME:CET
DTSTART:20171029T010000
END:STANDARD
BEGIN:DAYLIGHT
TZOFFSETFROM:+0100
TZOFFSETTO:+0200
TZNAME:CEST
DTSTART:20180325T010000
END:DAYLIGHT
BEGIN:STANDARD
TZOFFSETFROM:+0200
TZOFFSETTO:+0100
TZNAME:CET
DTSTART:20181028T010000
END:STANDARD
BEGIN:DAYLIGHT
TZOFFSETFROM:+0100
TZOFFSETTO:+0200
TZNAME:CEST
DTSTART:20190331T010000
END:DAYLIGHT
BEGIN:STANDARD
TZOFFSETFROM:+0200
TZOFFSETTO:+0100
TZNAME:CET
DTSTART:20191027T010000
END:STANDARD
BEGIN:DAYLIGHT
TZOFFSETFROM:+0100
TZOFFSETTO:+0200
TZNAME:CEST
DTSTART:20200329T010000
END:DAYLIGHT
BEGIN:STANDARD
TZOFFSETFROM:+0200
TZOFFSETTO:+0100
TZNAME:CET
DTSTART:20201025T010000
END:STANDARD
BEGIN:DAYLIGHT
TZOFFSETFROM:+0100
TZOFFSETTO:+0200
TZNAME:CEST
DTSTART:20210328T010000
END:DAYLIGHT
BEGIN:STANDARD
TZOFFSETFROM:+0200
TZOFFSETTO:+0100
TZNAME:CET
DTSTART:20211031T010000
END:STANDARD
BEGIN:DAYLIGHT
TZOFFSETFROM:+0100
TZOFFSETTO:+0200
TZNAME:CEST
DTSTART:20220327T010000
END:DAYLIGHT
BEGIN:STANDARD
TZOFFSETFROM:+0200
TZOFFSETTO:+0100
TZNAME:CET
DTSTART:20221030T010000
END:STANDARD
END:VTIMEZONE
BEGIN:VEVENT
DTSTART;TZID=Europe/Paris:20220701T173000
DTEND;TZID=Europe/Paris:20220701T200000
DTSTAMP:20260424T133540
CREATED:20220517T230537Z
LAST-MODIFIED:20220517T230537Z
UID:44343-1656696600-1656705600@hac63.nl
SUMMARY:Avond4daagse
DESCRIPTION:
URL:https://hac63.nl/wordpress/event/avond4daagse-4/
END:VEVENT
BEGIN:VEVENT
DTSTART;TZID=Europe/Paris:20220630T180000
DTEND;TZID=Europe/Paris:20220630T200000
DTSTAMP:20260424T133540
CREATED:20220517T230438Z
LAST-MODIFIED:20220517T230438Z
UID:44341-1656612000-1656619200@hac63.nl
SUMMARY:Avond4daagse
DESCRIPTION:
URL:https://hac63.nl/wordpress/event/avond4daagse-3/
END:VEVENT
BEGIN:VEVENT
DTSTART;TZID=Europe/Paris:20220629T180000
DTEND;TZID=Europe/Paris:20220629T200000
DTSTAMP:20260424T133540
CREATED:20220517T230357Z
LAST-MODIFIED:20220517T230357Z
UID:44339-1656525600-1656532800@hac63.nl
SUMMARY:Avond4daagse
DESCRIPTION:
URL:https://hac63.nl/wordpress/event/avond4daagse-2/
END:VEVENT
BEGIN:VEVENT
DTSTART;TZID=Europe/Paris:20220628T180000
DTEND;TZID=Europe/Paris:20220628T200000
DTSTAMP:20260424T133540
CREATED:20220517T230046Z
LAST-MODIFIED:20220517T230232Z
UID:44337-1656439200-1656446400@hac63.nl
SUMMARY:Avond4daagse
DESCRIPTION:
URL:https://hac63.nl/wordpress/event/avond4daagse/
LOCATION:Bentinckspark\, Sportveldenweg\, Hoogeveen\, 7902 NX
END:VEVENT
BEGIN:VEVENT
DTSTART;TZID=Europe/Paris:20220625T100000
DTEND;TZID=Europe/Paris:20220625T130000
DTSTAMP:20260424T133540
CREATED:20220517T230803Z
LAST-MODIFIED:20220517T230803Z
UID:44347-1656151200-1656162000@hac63.nl
SUMMARY:Onderlinge clubcompetitie
DESCRIPTION:
URL:https://hac63.nl/wordpress/event/onderlinge-clubcompetitie-2/
END:VEVENT
BEGIN:VEVENT
DTSTART;VALUE=DATE:20220622
DTEND;VALUE=DATE:20220623
DTSTAMP:20260424T133540
CREATED:20220529T203634Z
LAST-MODIFIED:20220613T175650Z
UID:44634-1655856000-1655942399@hac63.nl
SUMMARY:Bork Uur estafette
DESCRIPTION:
URL:https://hac63.nl/wordpress/event/bork-uursestafette/
END:VEVENT
BEGIN:VEVENT
DTSTART;TZID=Europe/Paris:20220531T000000
DTEND;TZID=Europe/Paris:20220531T000000
DTSTAMP:20260424T133540
CREATED:20220517T231129Z
LAST-MODIFIED:20220517T231129Z
UID:44351-1653955200-1653955200@hac63.nl
SUMMARY:Primera de Haan 4 mijlrun
DESCRIPTION:
URL:https://hac63.nl/wordpress/event/primera-de-haan-4-mijlrun/
END:VEVENT
BEGIN:VEVENT
DTSTART;TZID=Europe/Paris:20220521T100000
DTEND;TZID=Europe/Paris:20220521T130000
DTSTAMP:20260424T133540
CREATED:20220517T230727Z
LAST-MODIFIED:20220517T230727Z
UID:44345-1653127200-1653138000@hac63.nl
SUMMARY:Onderlinge Clubcompetitie
DESCRIPTION:
URL:https://hac63.nl/wordpress/event/onderlinge-clubcompetitie/
END:VEVENT
BEGIN:VEVENT
DTSTART;TZID=Europe/Paris:20200107T200000
DTEND;TZID=Europe/Paris:20200107T220000
DTSTAMP:20260424T133540
CREATED:20191222T191228Z
LAST-MODIFIED:20191222T191228Z
UID:3271-1578427200-1578434400@hac63.nl
SUMMARY:Nieuwjaarsreceptie 2020
DESCRIPTION:
URL:https://hac63.nl/wordpress/event/nieuwjaarsreceptie-2020/
LOCATION:Activum\, Sportpark Hoogeveen\, Sportveldenweg 2\, Hoogeveen\, Drenthe\, 7902NX\, Nederland
ORGANIZER;CN="HAC'63":MAILTO:info@hac63.nl
END:VEVENT
BEGIN:VEVENT
DTSTART;TZID=Europe/Paris:20191227T100000
DTEND;TZID=Europe/Paris:20191227T120000
DTSTAMP:20260424T133540
CREATED:20191207T160947Z
LAST-MODIFIED:20191209T180518Z
UID:3217-1577440800-1577448000@hac63.nl
SUMMARY:Dedagnakerstmisloop 2019
DESCRIPTION:
URL:https://hac63.nl/wordpress/event/dedagnakerstmisloop-2019/
CATEGORIES:WOC activiteiten
END:VEVENT
BEGIN:VEVENT
DTSTART;TZID=Europe/Paris:20191130T090000
DTEND;TZID=Europe/Paris:20191130T163000
DTSTAMP:20260424T133540
CREATED:20191022T194038Z
LAST-MODIFIED:20191022T200132Z
UID:2898-1575104400-1575131400@hac63.nl
SUMMARY:Indoor pupillen/C&D junioren/G-atleten meerkamp
DESCRIPTION:Op 30 november wordt de eerste Indoor wedstrijd voor pupillen/C&D Junioren/G-atleten gehouden in het Activum te Hoogeveen. \nNaast een uitdagende 4 kamp (40m sprint\, 40m horden\, kogelstoten/bandslingeren en hoogspringen) worden er ook 2 fun onderdelen aangeboden. Welke dat zijn\, is nog een verrassing! \nMeld je snel aan via www.atletiek.nu! \nHeeft u vragen stuur dan een @mail naar: woctechnisch@hac63.nl
URL:https://hac63.nl/wordpress/event/indoor-pupillen-cd-junioren-g-atleten-meerkamp/
CATEGORIES:Indoor meerkamp
ATTACH;FMTTYPE=image/jpeg:https://hac63.nl/wordpress/wp-content/uploads/2019/10/20190316_105112.jpg
ORGANIZER;CN="HAC'63":MAILTO:info@hac63.nl
END:VEVENT
BEGIN:VEVENT
DTSTART;TZID=Europe/Paris:20191010T190000
DTEND;TZID=Europe/Paris:20191010T203000
DTSTAMP:20260424T133540
CREATED:20190909T131911Z
LAST-MODIFIED:20190909T131911Z
UID:2640-1570734000-1570739400@hac63.nl
SUMMARY:Labrochette Coopertest
DESCRIPTION:
URL:https://hac63.nl/wordpress/event/labrochette-coopertest/
END:VEVENT
BEGIN:VEVENT
DTSTART;TZID=Europe/Paris:20190927T000000
DTEND;TZID=Europe/Paris:20190928T000000
DTSTAMP:20260424T133540
CREATED:20190909T131406Z
LAST-MODIFIED:20190909T131557Z
UID:2636-1569542400-1569628800@hac63.nl
SUMMARY:Clubkampioenschappen 2019
DESCRIPTION:met aansluitend de BBQ
URL:https://hac63.nl/wordpress/event/clubkampioenschappen-2019/
ORGANIZER;CN="HAC'63":MAILTO:info@hac63.nl
END:VEVENT
BEGIN:VEVENT
DTSTART;TZID=Europe/Paris:20190510T173000
DTEND;TZID=Europe/Paris:20190510T213000
DTSTAMP:20260424T133540
CREATED:20190328T181738Z
LAST-MODIFIED:20190330T193342Z
UID:2503-1557509400-1557523800@hac63.nl
SUMMARY:van Eeks trackmeeting
DESCRIPTION:Van Eeks trackmeeting 2019\nVrijdag 10 mei is er een trackmeeting op de atletiekbaan van Hoogeveen. Bij een trackmeeting zijn er bepaalde atletiek onderdelen waarop atleten proberen hun persoonlijk record aan te scherpen. \n\n\n\nONDERDELEN\nCATEGORIE\nTIJD\nKOSTEN\n\n\n800 meter\nA/B/C\n19:00\n€ 4\,-\n\n\nVer / Speer\nA/B/C\n19:00\n€ 4\,-\n\n\n1000 meter SC\nC\n19:30\n€ 4\,-\n\n\n2000 meter SC\nA\n20:00\n€ 4\,-\n\n\n3000 meter SC\nB\n20:30\n€ 4\,-\n\n\n5000 meter\nA/B/C\n21:00\n€ 4\,-\n\n\n\nHet kan zijn dat wanneer er meerdere serie’s gelopen worden het tijdschema kan uitlopen. \nA: Mmas/ JJB / Vmas / Vsen / MJA  / MJB\nB: Msen/ JJA\nC: JJC / JJD / MJD \nNa-inschrijven is mogelijk tot 30 minuten voor aanvang van het onderdeel.
URL:https://hac63.nl/wordpress/event/van-eeks-trackmeeting/
END:VEVENT
BEGIN:VEVENT
DTSTART;TZID=Europe/Paris:20190402T180000
DTEND;TZID=Europe/Paris:20190402T203000
DTSTAMP:20260424T133540
CREATED:20190318T115658Z
LAST-MODIFIED:20190318T161731Z
UID:2487-1554228000-1554237000@hac63.nl
SUMMARY:Primerarun de Haan
DESCRIPTION:Voor meer info kijk op www.primerarun.nl
URL:https://hac63.nl/wordpress/event/primerarun-de-haan/
END:VEVENT
BEGIN:VEVENT
DTSTART;TZID=Europe/Paris:20190312T190000
DTEND;TZID=Europe/Paris:20190312T220000
DTSTAMP:20260424T133540
CREATED:20190211T221928Z
LAST-MODIFIED:20190318T184253Z
UID:2477-1552417200-1552428000@hac63.nl
SUMMARY:La Brochette Coopertest
DESCRIPTION:Voor meer info kijk op www.labrochettecoopertest.nl
URL:https://hac63.nl/wordpress/event/la-brochette-coopertest-3/
ATTACH;FMTTYPE=image/jpeg:https://hac63.nl/wordpress/wp-content/uploads/2019/02/labrochette.jpg
ORGANIZER;CN="HAC'63":MAILTO:info@hac63.nl
END:VEVENT
BEGIN:VEVENT
DTSTART;TZID=Europe/Paris:20190113T120000
DTEND;TZID=Europe/Paris:20190113T163000
DTSTAMP:20260424T133540
CREATED:20181118T201928Z
LAST-MODIFIED:20181125T232152Z
UID:2335-1547380800-1547397000@hac63.nl
SUMMARY:Runnersworld Bentincksparkrun 2019
DESCRIPTION:
URL:https://hac63.nl/wordpress/event/runnersworld-bentincksparkrun-2018/
END:VEVENT
BEGIN:VEVENT
DTSTART;TZID=Europe/Paris:20190108T200000
DTEND;TZID=Europe/Paris:20190108T213000
DTSTAMP:20260424T133540
CREATED:20181224T120013Z
LAST-MODIFIED:20181224T120013Z
UID:2403-1546977600-1546983000@hac63.nl
SUMMARY:nieuwjaarsreceptie 2019
DESCRIPTION:
URL:https://hac63.nl/wordpress/event/nieuwjaarsreceptie-2019/
LOCATION:Activum\, Sportpark Hoogeveen\, Sportveldenweg 2\, Hoogeveen\, Drenthe\, 7902NX\, Nederland
ATTACH;FMTTYPE=image/jpeg:https://hac63.nl/wordpress/wp-content/uploads/2018/12/nieuwjaarsreceptie.jpg
ORGANIZER;CN="HAC'63":MAILTO:info@hac63.nl
END:VEVENT
BEGIN:VEVENT
DTSTART;TZID=Europe/Paris:20181227T100000
DTEND;TZID=Europe/Paris:20181227T113000
DTSTAMP:20260424T133540
CREATED:20181224T234950Z
LAST-MODIFIED:20181224T235032Z
UID:2409-1545904800-1545910200@hac63.nl
SUMMARY:Dedagnakerstmisloop
DESCRIPTION:Een trimloop voor iedereen de benen wil strekken en de nodige calorieën kwijt moet. \nWe starten bij de parkeerplaats ter hoogte van het Bovenveen. Het adres is Ruinerweg 12\, 7932 PD Echten. \nEr is een afstand van 5 km en van 10km. Je loopt onder begeleiding van iemand die het parkoers kent. Bij elke afstand proberen 2 of meer tempo groepen te maken. \n 
URL:https://hac63.nl/wordpress/event/dedagnakerstmisloop/
END:VEVENT
BEGIN:VEVENT
DTSTART;TZID=Europe/Paris:20181021T080000
DTEND;TZID=Europe/Paris:20181021T170000
DTSTAMP:20260424T133540
CREATED:20180910T215343Z
LAST-MODIFIED:20180910T215343Z
UID:2272-1540108800-1540141200@hac63.nl
SUMMARY:Bork Stuifzandrun
DESCRIPTION:
URL:https://hac63.nl/wordpress/event/bork-stuifzandrun-2/
ATTACH;FMTTYPE=image/jpeg:https://hac63.nl/wordpress/wp-content/uploads/2018/09/stuifzandrun.jpg
END:VEVENT
BEGIN:VEVENT
DTSTART;TZID=Europe/Paris:20181011T190000
DTEND;TZID=Europe/Paris:20181011T203000
DTSTAMP:20260424T133540
CREATED:20180910T214933Z
LAST-MODIFIED:20180910T214933Z
UID:2269-1539284400-1539289800@hac63.nl
SUMMARY:coopertest
DESCRIPTION:
URL:https://hac63.nl/wordpress/event/coopertest/
ATTACH;FMTTYPE=image/jpeg:https://hac63.nl/wordpress/wp-content/uploads/2018/09/coopertest.jpg
END:VEVENT
BEGIN:VEVENT
DTSTART;TZID=Europe/Paris:20180921T080000
DTEND;TZID=Europe/Paris:20180922T170000
DTSTAMP:20260424T133540
CREATED:20180910T215929Z
LAST-MODIFIED:20180910T215929Z
UID:2275-1537516800-1537635600@hac63.nl
SUMMARY:Clubkampioenschappen
DESCRIPTION:
URL:https://hac63.nl/wordpress/event/clubkampioenschappen-2/
ATTACH;FMTTYPE=image/jpeg:https://hac63.nl/wordpress/wp-content/uploads/2018/09/ck2018.jpg
END:VEVENT
BEGIN:VEVENT
DTSTART;TZID=Europe/Paris:20180609T130000
DTEND;TZID=Europe/Paris:20180609T170000
DTSTAMP:20260424T133540
CREATED:20180430T195615Z
LAST-MODIFIED:20180603T215337Z
UID:2126-1528549200-1528563600@hac63.nl
SUMMARY:10 venenloop
DESCRIPTION:voorinschrijving tot 5 juni / nainschrijving \n1km gratis\n2km gratis \n5km € 5\,00/€ 7\,50\n10km € 7\,50/€ 10\,00\n21.1km € 12\,50/€ 15\,00
URL:https://hac63.nl/wordpress/event/10-venenloop/
LOCATION:Tiendeveen
ORGANIZER;CN="HAC'63":MAILTO:info@hac63.nl
END:VEVENT
BEGIN:VEVENT
DTSTART;TZID=Europe/Paris:20180530T181500
DTEND;TZID=Europe/Paris:20180530T210000
DTSTAMP:20260424T133540
CREATED:20180411T210041Z
LAST-MODIFIED:20180423T182557Z
UID:2110-1527704100-1527714000@hac63.nl
SUMMARY:Simone FM uursestafette
DESCRIPTION:
URL:https://hac63.nl/wordpress/event/simone-fm-uursestafette-2/
LOCATION:Bentinckspark\, Sportveldenweg\, Hoogeveen\, 7902 NX
ORGANIZER;CN="HAC'63":MAILTO:info@hac63.nl
END:VEVENT
BEGIN:VEVENT
DTSTART;TZID=Europe/Paris:20180403T193000
DTEND;TZID=Europe/Paris:20180403T193000
DTSTAMP:20260424T133540
CREATED:20180320T221405Z
LAST-MODIFIED:20180320T221423Z
UID:2073-1522783800-1522783800@hac63.nl
SUMMARY:Primera de Haan 4 mijlrun 2018
DESCRIPTION:
URL:https://hac63.nl/wordpress/event/primera-de-haan-run-2018/
LOCATION:Bentinckspark\, Sportveldenweg\, Hoogeveen\, 7902 NX
ATTACH;FMTTYPE=image/jpeg:https://hac63.nl/wordpress/wp-content/uploads/2018/03/PR18.jpg
ORGANIZER;CN="HAC'63":MAILTO:info@hac63.nl
END:VEVENT
BEGIN:VEVENT
DTSTART;TZID=Europe/Paris:20180313T190000
DTEND;TZID=Europe/Paris:20180313T210000
DTSTAMP:20260424T133540
CREATED:20180304T123904Z
LAST-MODIFIED:20180304T123904Z
UID:2033-1520967600-1520974800@hac63.nl
SUMMARY:La Brochette Coopertest
DESCRIPTION:
URL:https://hac63.nl/wordpress/event/la-brochette-coopertest-2/
LOCATION:Bentinckspark\, Sportveldenweg\, Hoogeveen\, 7902 NX
ATTACH;FMTTYPE=image/jpeg:https://hac63.nl/wordpress/wp-content/uploads/2018/03/coopertest-flyer.jpg
ORGANIZER;CN="HAC'63":MAILTO:info@hac63.nl
END:VEVENT
BEGIN:VEVENT
DTSTART;VALUE=DATE:20180114
DTEND;VALUE=DATE:20180115
DTSTAMP:20260424T133540
CREATED:20171108T102504Z
LAST-MODIFIED:20171108T102504Z
UID:1728-1515888000-1515974399@hac63.nl
SUMMARY:Runnersworld Bentincksparkrun
DESCRIPTION:Bentincksparkrun: \n5.000 meter \n10.000 meter \nElftalrun onderdelen: \n1 km (tot 12 jaar) \n2\,5 km (tot 15 jaar)\, \n5 km (vanaf 15 jaar) \n10 km (vanaf 16 jaar) \nG-Runners: \n300 meter \n600 meter \n1 kilometer
URL:https://hac63.nl/wordpress/event/runnersworld-bentincksparkrun/
LOCATION:Activum\, Sportpark Hoogeveen\, Sportveldenweg 2\, Hoogeveen\, Drenthe\, 7902NX\, Nederland
END:VEVENT
BEGIN:VEVENT
DTSTART;TZID=Europe/Paris:20180109T203000
DTEND;TZID=Europe/Paris:20180109T220000
DTSTAMP:20260424T133540
CREATED:20171205T160128Z
LAST-MODIFIED:20171205T160128Z
UID:1900-1515529800-1515535200@hac63.nl
SUMMARY:Nieuwjaarsreceptie
DESCRIPTION:
URL:https://hac63.nl/wordpress/event/nieuwjaarsreceptie/
ATTACH;FMTTYPE=image/jpeg:https://hac63.nl/wordpress/wp-content/uploads/2017/12/Nieuwjaarsreceptie-2018.jpg
END:VEVENT
BEGIN:VEVENT
DTSTART;TZID=Europe/Paris:20171026T180000
DTEND;TZID=Europe/Paris:20171026T213000
DTSTAMP:20260424T133540
CREATED:20170418T153532Z
LAST-MODIFIED:20170418T153532Z
UID:1106-1509040800-1509053400@hac63.nl
SUMMARY:La Brochette Coopertest
DESCRIPTION:
URL:https://hac63.nl/wordpress/event/la-brochette-coopertest/
LOCATION:Bentinckspark\, Sportveldenweg\, Hoogeveen\, 7902 NX
ATTACH;FMTTYPE=image/jpeg:https://hac63.nl/wordpress/wp-content/uploads/2017/03/coopertestbanner.jpg
ORGANIZER;CN="HAC'63":MAILTO:info@hac63.nl
END:VEVENT
BEGIN:VEVENT
DTSTART;TZID=Europe/Paris:20171015T130000
DTEND;TZID=Europe/Paris:20171015T150000
DTSTAMP:20260424T133540
CREATED:20170717T232226Z
LAST-MODIFIED:20170922T223236Z
UID:1449-1508072400-1508079600@hac63.nl
SUMMARY:Bork Stuifzandrun
DESCRIPTION:omkleedruimtes aanwezig\, geen mogelijkheid tot douchen.
URL:https://hac63.nl/wordpress/event/bork-stuifzandrun/
LOCATION:Dorpshuis Stuifzand\, Hoofdweg 8 \, Stuifzand
ATTACH;FMTTYPE=application/pdf:https://hac63.nl/wordpress/wp-content/uploads/2017/07/flyer-bork-stuifzandrun.pdf
ORGANIZER;CN="HAC'63":MAILTO:info@hac63.nl
END:VEVENT
END:VCALENDAR