BEGIN:VCALENDAR
VERSION:2.0
PRODID:-//HAC &#039;63 - ECPv6.2.6//NONSGML v1.0//EN
CALSCALE:GREGORIAN
METHOD:PUBLISH
X-ORIGINAL-URL:https://hac63.nl/wordpress
X-WR-CALDESC:Evenementen voor HAC &#039;63
REFRESH-INTERVAL;VALUE=DURATION:PT1H
X-Robots-Tag:noindex
X-PUBLISHED-TTL:PT1H
BEGIN:VTIMEZONE
TZID:Europe/Paris
BEGIN:DAYLIGHT
TZOFFSETFROM:+0100
TZOFFSETTO:+0200
TZNAME:CEST
DTSTART:20250330T010000
END:DAYLIGHT
BEGIN:STANDARD
TZOFFSETFROM:+0200
TZOFFSETTO:+0100
TZNAME:CET
DTSTART:20251026T010000
END:STANDARD
BEGIN:DAYLIGHT
TZOFFSETFROM:+0100
TZOFFSETTO:+0200
TZNAME:CEST
DTSTART:20260329T010000
END:DAYLIGHT
BEGIN:STANDARD
TZOFFSETFROM:+0200
TZOFFSETTO:+0100
TZNAME:CET
DTSTART:20261025T010000
END:STANDARD
BEGIN:DAYLIGHT
TZOFFSETFROM:+0100
TZOFFSETTO:+0200
TZNAME:CEST
DTSTART:20270328T010000
END:DAYLIGHT
BEGIN:STANDARD
TZOFFSETFROM:+0200
TZOFFSETTO:+0100
TZNAME:CET
DTSTART:20271031T010000
END:STANDARD
END:VTIMEZONE
BEGIN:VEVENT
DTSTART;TZID=Europe/Paris:20251005T080000
DTEND;TZID=Europe/Paris:20251005T170000
DTSTAMP:20260423T135621
CREATED:20250107T091849Z
LAST-MODIFIED:20250107T091908Z
UID:54029-1759651200-1759683600@hac63.nl
SUMMARY:Lexis Crossloop Zuidwolde
DESCRIPTION:INFORMATIE\n\n\n\n\n\n\n\n\n\nIedere 1e zondag van oktober organiseert de Loopgroep Zuidwolde de Lexis Notarissen Crossloop. De route gaat over de onverharde paden door het Faliebergbos\, rond de Entekoele\, richting de ultieme scherprechter: de beklimming van de Falieberg. Voor zowel de startende en de geoefende loper een flinke kuitenbijter! Start en finish zijn bij Camping De Entekoele. Het parcours is geschikt voor ieder niveau van loper. Van jong tot oud\, iedereen is welkom om mee te lopen! Daag jezelf uit en schrijf je in! \nDe vaste onderdelen zijn:\nHubo Discus CaniCross 5km\,\nVeldsink Kidsloop 1250 6-9jr/ 2500 10-12jr\,\nLexis Notarissen Crossloop 5 of 10km. \nDe volgende editie zal plaatsvinden op 5 oktober 2025. \nDe aanmelding gaat via inschrijven.nl en zal begin 2025 geopend worden. \n\n\n\n\n\n\n\n\nParcours\nHet parcours van de Crossloop wordt uitgezet over de onverharde paden van het Faliebergbos. De paden zijn over het algemeen goed begaanbaar en worden met zorg onderhouden door de Vrienden van de Falieberg. Het blijft een crossloop door het bos\, dus let op uitstekende boomwortels en regenplassen. \nInschrijven\nInschrijven gaat via inschrijven.nl. De deelname voor de kidsrun is gratis\, deelname voor de Crossloop en Canicross is € 8\,50. Dit geldt tot de woensdag voor de start\, daarna wordt het inschrijfgeld verhoogd met € 3\,00 (Ook de kidsrun). Inschrijven kan tot 15 minuten voor de start. Schrijf je op tijd in\, dat scheelt inschrijfgeld en je krijgt je eigen naam op je startnummer. \nKidsrun\nHet rondje van de Kidsrun is 1250 meter lang. Deze wordt 1 keer (Kidsrun 6-9 jaar) of 2 keer (Kidsrun 10-12 jaar) gelopen. Deze route is grotendeels vlak en gaat niet over de Falieberg. \nCrossloop\nHet rondje van de Crossloop is 5 km. Deze wordt 1 keer (Crossloop 5k) of 2 keer (Crossloop 10k) gelopen. De route gaat langs de Entekoele en het Tonckenshuis. Aan het eind volgt de beklimming van de Falieberg\, waar de deelnemers drie maal per ronde overheen gaan! \nCanicross\nDe start van de Canicross is één voor één. Geef elkaar zoveel mogelijk de ruimte om te passeren. Deelnemen met 2 honden is toegestaan als de honden aan tuigje aan elkaar zitten. \nStart en finish\nDe start en finish locatie is bij Camping de Entekoele in Zuidwolde. Hier is ruimte voor het parkeren van je fiets\, omkleden en neerleggen van je bagage (let op: onbewaakt).\n\nVerzorging\nWe hebben één waterpost waar de lopers twee keer per ronde aan voorbij komen. Deze staat op ongeveer 1\,8 km na de start. Na de finish is er voor de deelnemers water\, ranja en fruit. \nToeschouwers\nDe Crossloop is altijd een gezellig evenement en je bent van harte welkom om de deelnemers aan te moedigen. Goede plekken zijn de start en finishlocatie\, de Entekoele\, oversteek van het fietspad bij het Tonkenshuis en natuurlijk de Falieberg zelf. \nParkeren\nKom zoveel mogelijk met de fiets! Tijdens het evenement is het Faliebergbos niet toegankelijk voor auto’s. Als je met de auto komt\, parkeer dan bij: Parkeerplaats Begraafplaats\, Tonckenshuys of Lexis Notarissen. \nAfstand\nGeeft je GPS horloge een andere afstand dan 5 of 10km? De nauwkeurigheid in het bos is lager. Het parcours van de Crossloop is 5.044 meter\, volgens de officiële methode opgemeten met een meetwieltje.
URL:https://hac63.nl/wordpress/event/lexis-crossloop-zuidwolde/
END:VEVENT
BEGIN:VEVENT
DTSTART;TZID=Europe/Paris:20251009T190000
DTEND;TZID=Europe/Paris:20251009T204500
DTSTAMP:20260423T135621
CREATED:20241028T120831Z
LAST-MODIFIED:20250107T085049Z
UID:53631-1760036400-1760042700@hac63.nl
SUMMARY:LB Chicken Coopertest
DESCRIPTION:LB Chicken Coopertest \nDonderdag 9 oktober 2025 \nStart vanaf 19:00 uur atletiekbaan Hoogeveen \nwww. labrochettecoopertest.nl \n6 minuten voor de jeugd tot en met 12 jaar en G-lopers \n12 minuten voor Iedereen vanaf 13 jaar
URL:https://hac63.nl/wordpress/event/lb-chicken-coopertest/
END:VEVENT
BEGIN:VEVENT
DTSTART;TZID=Europe/Paris:20251011T080000
DTEND;TZID=Europe/Paris:20251011T170000
DTSTAMP:20260423T135621
CREATED:20250107T092134Z
LAST-MODIFIED:20250107T092134Z
UID:54031-1760169600-1760202000@hac63.nl
SUMMARY:JumboReestRun Meppel
DESCRIPTION:
URL:https://hac63.nl/wordpress/event/jumboreestrun-meppel/
END:VEVENT
BEGIN:VEVENT
DTSTART;TZID=Europe/Paris:20251101T080000
DTEND;TZID=Europe/Paris:20251101T170000
DTSTAMP:20260423T135621
CREATED:20251103T132054Z
LAST-MODIFIED:20251103T132054Z
UID:55894-1761984000-1762016400@hac63.nl
SUMMARY:1e HFR 1 november op de atletiekbaan van HAC’63.
DESCRIPTION:
URL:https://hac63.nl/wordpress/event/1e-hfr-1-november-op-de-atletiekbaan-van-hac63/
END:VEVENT
BEGIN:VEVENT
DTSTART;TZID=Europe/Paris:20251109T080000
DTEND;TZID=Europe/Paris:20251109T170000
DTSTAMP:20260423T135621
CREATED:20250107T090912Z
LAST-MODIFIED:20250107T090912Z
UID:54016-1762675200-1762707600@hac63.nl
SUMMARY:Schoonhovencross
DESCRIPTION:
URL:https://hac63.nl/wordpress/event/schoonhovencross-3/
END:VEVENT
BEGIN:VEVENT
DTSTART;TZID=Europe/Paris:20260107T190000
DTEND;TZID=Europe/Paris:20260107T210000
DTSTAMP:20260423T135621
CREATED:20250901T204951Z
LAST-MODIFIED:20251205T123526Z
UID:55150-1767812400-1767819600@hac63.nl
SUMMARY:7 januari 2026 Nieuwjaarsreceptie HAC'63
DESCRIPTION:Samen luiden we  het nieuwe jaar in! \n\nDatum: 7 januari 2026\nLocatie: Sportcafé\nTijd: 19– 21 uur\n\nMet traditiegetrouw: \n\nBekendmaking Jeugdtalent jongens/meisjes\, A-Atleet\,  Sportman/vrouw en Sportploeg van het jaar 2025\nBekendmaking vrijwilliger van het jaar 2025\nUitreiking prijzen Hypotheekcentrumcompetitie 2025\n\n 
URL:https://hac63.nl/wordpress/event/7-januari-2026-nieuwjaarsreceptie-hac63/
ATTACH;FMTTYPE=image/png:https://hac63.nl/wordpress/wp-content/uploads/2025/09/flyer.png
END:VEVENT
BEGIN:VEVENT
DTSTART;TZID=Europe/Paris:20260121T193000
DTEND;TZID=Europe/Paris:20260121T213000
DTSTAMP:20260423T135621
CREATED:20260113T090727Z
LAST-MODIFIED:20260113T090727Z
UID:56159-1769023800-1769031000@hac63.nl
SUMMARY:Nieuwjaarsreceptie verplaatst naar 21 januari 2026
DESCRIPTION:Samen luiden we  het nieuwe jaar in! \n\nDatum: 21 januari 2026\nLocatie: Sportcafé\nTijd: 19:30– 21:30 uur\n\nMet traditiegetrouw: \n\nBekendmaking Jeugdtalent jongens/meisjes\, A-Atleet\,  Sportman/vrouw en Sportploeg van het jaar 2025\nBekendmaking vrijwilliger van het jaar 2025\nUitreiking prijzen Hypotheekcentrumcompetitie 2025\n\n 
URL:https://hac63.nl/wordpress/event/nieuwjaarsreceptie-verplaatst-naar-21-januari-2026/
ATTACH;FMTTYPE=image/png:https://hac63.nl/wordpress/wp-content/uploads/2026/01/verplaatsing.png
END:VEVENT
BEGIN:VEVENT
DTSTART;TZID=Europe/Paris:20260207T193000
DTEND;TZID=Europe/Paris:20260207T223000
DTSTAMP:20260423T135621
CREATED:20251211T212645Z
LAST-MODIFIED:20251211T212736Z
UID:56037-1770492600-1770503400@hac63.nl
SUMMARY:Après-Ski Pubquiz – 7 februari 2026
DESCRIPTION:Op 7 februari 2026 organiseert HAC’63 een pubquiz met het thema Après-Ski! De olympische winterspelen vinden namelijk in 2026 weer plaats! Deze pubquiz is voor iedereen! Je kunt je opgeven met je vriendengroep\, als lid \, natuurlijk ook als oud-lid en je mag ook gezellig met het hele gezin meedoen! \nTrek je mooiste Après-Ski outfit uit de kast want het team dat het leukst verkleed is krijgt extra punten met de pubquiz!\nVerkleed komen in het thema is een vereiste!👘👗🦺 \nInloop: 19:30\nStart pubquiz: 20:00\nKosten: €3 P.P of per team van 6 personen €15\nLocatie: Sportcafé de 2 gezusters Hoogeveen \nNa de pubquiz is er ruimte voor een drankje in het sportcafé🎵 \nOpgeven kan via:\n– activiteitencommissie@hac.nl\nOf\n– 06 29934598 (Rebecca Leune) \nJe geeft je als groep van maximaal 6 personen op of als duo waarbij je geplaatst wordt bij een ander duo en samen de strijd aan gaat en anderen van de club leert kennen. \nBen jij er ook bij? Wacht dan niet te lang met opgeven\, want VOL=VOL
URL:https://hac63.nl/wordpress/event/apres-ski-pubquiz-7-februari-2026/
ATTACH;FMTTYPE=image/jpeg:https://hac63.nl/wordpress/wp-content/uploads/2025/12/flyer-pubquiz.jpg
END:VEVENT
BEGIN:VEVENT
DTSTART;TZID=Europe/Paris:20260303T190000
DTEND;TZID=Europe/Paris:20260303T210000
DTSTAMP:20260423T135621
CREATED:20251013T172114Z
LAST-MODIFIED:20260212T135311Z
UID:55791-1772564400-1772571600@hac63.nl
SUMMARY:LB Chick'n Coopertest 2026
DESCRIPTION:Start vanaf 19 uur atletiekbaan \n6 minuten voor de jeugd t/m 12 jaar en A-atleten \n12 minuten voor iedereen van 13 jaar en ouder \n2026-03-03 flyer Coopertest
URL:https://hac63.nl/wordpress/event/lb-chickn-coopertest-4/
ATTACH;FMTTYPE=image/jpeg:https://hac63.nl/wordpress/wp-content/uploads/2026/02/Coopertest-3-maart.jpg
END:VEVENT
BEGIN:VEVENT
DTSTART;TZID=Europe/Paris:20260320T180000
DTEND;TZID=Europe/Paris:20260320T213000
DTSTAMP:20260423T135621
CREATED:20251229T185621Z
LAST-MODIFIED:20260212T135424Z
UID:56093-1774029600-1774042200@hac63.nl
SUMMARY:Herquasports Lentewedstrijd
DESCRIPTION:
URL:https://hac63.nl/wordpress/event/herquasportslentewedstrijd/
ATTACH;FMTTYPE=image/jpeg:https://hac63.nl/wordpress/wp-content/uploads/2025/12/122102_A5-flyer-LenteWedstrijd_web-1.jpg
END:VEVENT
BEGIN:VEVENT
DTSTART;TZID=Europe/Paris:20260407T193000
DTEND;TZID=Europe/Paris:20260407T210000
DTSTAMP:20260423T135621
CREATED:20251013T172301Z
LAST-MODIFIED:20260401T154812Z
UID:55793-1775590200-1775595600@hac63.nl
SUMMARY:Primera de Haan 4 mijl Run 2026
DESCRIPTION:Start 19:30 uur vanaf de atletiekbaan
URL:https://hac63.nl/wordpress/event/primera-de-haan-4-mijl-run-3/
ATTACH;FMTTYPE=image/jpeg:https://hac63.nl/wordpress/wp-content/uploads/2025/10/2026-4-8-flyer-primerarun-.jpeg
END:VEVENT
BEGIN:VEVENT
DTSTART;TZID=Europe/Paris:20260421T190000
DTEND;TZID=Europe/Paris:20260421T200000
DTSTAMP:20260423T135621
CREATED:20260412T122011Z
LAST-MODIFIED:20260412T122634Z
UID:56887-1776798000-1776801600@hac63.nl
SUMMARY:Opening Wedstrijdsecretariaat
DESCRIPTION:Het is zover: ons prachtige nieuwe wedstrijdsecretariaat is klaar voor de start! Dit hebben we samen bereikt\, en dat gaan we op dinsdag 21 april op een unieke manier vieren. Geen saai lintje doorknippen\, maar een opening met de snelheid en dynamiek die bij HAC’63 past. \nOm 19 uur starten we met een bijzondere estafette over de baan. Vertegenwoordigers van álle groepen binnen onze club – van de jongste pupillen tot de masters – passeren diverse atletiekonderdelen en hindernissen. Terwijl de ‘hordes’ worden genomen\, vertellen we het verhaal van de totstandkoming van dit gebouw. De finishlijn? Die ligt bij de voordeur van het nieuwe secretariaat. Daar zal het officiële openingsmoment plaatsvinden (door wie? Dat blijft nog even een verrassing!). \nNa het officiële gedeelte nodigen we alle sponsoren\, medewerkers\, vrijwilligers en atleten uit om het resultaat van dichtbij te bewonderen. \nTot de 21e op de baan!
URL:https://hac63.nl/wordpress/event/opening-wedstrijdsecretariaat/
ATTACH;FMTTYPE=image/jpeg:https://hac63.nl/wordpress/wp-content/uploads/2026/04/c.jpg
END:VEVENT
BEGIN:VEVENT
DTSTART;TZID=Europe/Paris:20260520T181500
DTEND;TZID=Europe/Paris:20260520T210000
DTSTAMP:20260423T135621
CREATED:20251013T172457Z
LAST-MODIFIED:20260319T184035Z
UID:55795-1779300900-1779310800@hac63.nl
SUMMARY:Uursestafette 2026
DESCRIPTION:Op woensdag 20 mei 2026 is het weer tijd voor de jaarlijkse Bork Uurestafette. \nEen unieke uitdaging waarbij teams in precies één uur tijd zoveel mogelijk rondes op de atletiekbaan afleggen. Voor C/D junioren en A-atleten is er een halfuursloop. Een team bestaat uit minimaal 2 en maximaal 4 personen. \n\n18:15 uur: Halfuursestafette – € 12 per team.\n20:15 uur: Uurestafette – € 24 per team.\n\nSchrijf je team uiterlijk in op 17 mei via inschrijven.nl \nVol = vol\, dus wees er snel bij!
URL:https://hac63.nl/wordpress/event/uursestafette/
ATTACH;FMTTYPE=image/jpeg:https://hac63.nl/wordpress/wp-content/uploads/2026/03/123365-_-Flyer-Estafette-2026-digitaal-scaled.jpg
END:VEVENT
BEGIN:VEVENT
DTSTART;TZID=Europe/Paris:20260607T110000
DTEND;TZID=Europe/Paris:20260607T150000
DTSTAMP:20260423T135621
CREATED:20260212T134300Z
LAST-MODIFIED:20260412T122857Z
UID:56436-1780830000-1780844400@hac63.nl
SUMMARY:Intersport Bentinckspark Obstacle Run
DESCRIPTION:www.bentincksparkrun.nl \n1e start 11 uur
URL:https://hac63.nl/wordpress/event/intersport-bentinckspark-obstacle-run/
LOCATION:Bentinckspark\, Sportveldenweg\, Hoogeveen\, 7902 NX
ATTACH;FMTTYPE=image/jpeg:https://hac63.nl/wordpress/wp-content/uploads/2026/02/Flyer-Intersport-Bentinckspark-Obstacle-Run-07062026-scaled.jpg
END:VEVENT
BEGIN:VEVENT
DTSTART;TZID=Europe/Paris:20260616T180000
DTEND;TZID=Europe/Paris:20260619T203000
DTSTAMP:20260423T135621
CREATED:20250723T110526Z
LAST-MODIFIED:20251013T173006Z
UID:55025-1781632800-1781901000@hac63.nl
SUMMARY:Avond4Daagse Hoogeveen 2026
DESCRIPTION:
URL:https://hac63.nl/wordpress/event/avond4daagse-hoogeveen/
LOCATION:Atletiekbaan Hoogeveen\, Sportveldenweg 3\, Hoogeveen\, 7902NX\, Nederland
ATTACH;FMTTYPE=image/png:https://hac63.nl/wordpress/wp-content/uploads/2025/05/2.png
END:VEVENT
BEGIN:VEVENT
DTSTART;TZID=Europe/Paris:20260905T100000
DTEND;TZID=Europe/Paris:20260906T140000
DTSTAMP:20260423T135621
CREATED:20250909T123404Z
LAST-MODIFIED:20251013T172942Z
UID:55221-1788602400-1788703200@hac63.nl
SUMMARY:Open Club Sportdag 2026\, 6e editie
DESCRIPTION:zie ook: www.dewoldensport.nl | www.sportiefhoogeveen.nl
URL:https://hac63.nl/wordpress/event/open-club-sportdag-6e-editie/
LOCATION:Atletiekbaan Hoogeveen\, Sportveldenweg 3\, Hoogeveen\, 7902NX\, Nederland
END:VEVENT
BEGIN:VEVENT
DTSTART;TZID=Europe/Paris:20260925T190000
DTEND;TZID=Europe/Paris:20260926T210000
DTSTAMP:20260423T135621
CREATED:20260212T134730Z
LAST-MODIFIED:20260212T134730Z
UID:56439-1790362800-1790456400@hac63.nl
SUMMARY:Clubkampioenschappen HAC'63
DESCRIPTION:vrijdagavond 25 en zaterdag 25 september 2026 \nna afloop club-BBQ
URL:https://hac63.nl/wordpress/event/clubkampioenschappen-hac63/
END:VEVENT
BEGIN:VEVENT
DTSTART;TZID=Europe/Paris:20261003T080000
DTEND;TZID=Europe/Paris:20261003T170000
DTSTAMP:20260423T135621
CREATED:20251103T132212Z
LAST-MODIFIED:20251103T132314Z
UID:55896-1791014400-1791046800@hac63.nl
SUMMARY:2e HFR 3 oktober 2026 op de atletiekbaan van HAC’63
DESCRIPTION:
URL:https://hac63.nl/wordpress/event/2e-hfr-3-oktober-2026-op-de-atletiekbaan-van-hac63/
END:VEVENT
BEGIN:VEVENT
DTSTART;TZID=Europe/Paris:20261008T190000
DTEND;TZID=Europe/Paris:20261008T210000
DTSTAMP:20260423T135621
CREATED:20251013T172641Z
LAST-MODIFIED:20260208T143813Z
UID:55797-1791486000-1791493200@hac63.nl
SUMMARY:LB Chick'n Coopertest 2026
DESCRIPTION:Start vanaf 19 uur atletiekbaan \n6 minuten voor de jeugd t/m 12 jaar en A-atleten \n12 minuten voor iedereen van 13 jaar en ouder
URL:https://hac63.nl/wordpress/event/lb-chickn-coopertest-2026/
ATTACH;FMTTYPE=application/pdf:https://hac63.nl/wordpress/wp-content/uploads/2025/10/2026-03-03-flyer-Coopertest.pdf
END:VEVENT
BEGIN:VEVENT
DTSTART;TZID=Europe/Paris:20270110T110000
DTEND;TZID=Europe/Paris:20270110T160000
DTSTAMP:20260423T135621
CREATED:20251013T172829Z
LAST-MODIFIED:20251013T172829Z
UID:55799-1799578800-1799596800@hac63.nl
SUMMARY:Intersport Obstaclerun 2027
DESCRIPTION:Start vanaf 11 uur
URL:https://hac63.nl/wordpress/event/intersport-obstaclerun-2027/
END:VEVENT
END:VCALENDAR