BEGIN:VCALENDAR
VERSION:2.0
PRODID:-//HAC &#039;63 - ECPv6.2.6//NONSGML v1.0//EN
CALSCALE:GREGORIAN
METHOD:PUBLISH
X-ORIGINAL-URL:https://hac63.nl/wordpress
X-WR-CALDESC:Evenementen voor HAC &#039;63
REFRESH-INTERVAL;VALUE=DURATION:PT1H
X-Robots-Tag:noindex
X-PUBLISHED-TTL:PT1H
BEGIN:VTIMEZONE
TZID:Europe/Paris
BEGIN:DAYLIGHT
TZOFFSETFROM:+0100
TZOFFSETTO:+0200
TZNAME:CEST
DTSTART:20260329T010000
END:DAYLIGHT
BEGIN:STANDARD
TZOFFSETFROM:+0200
TZOFFSETTO:+0100
TZNAME:CET
DTSTART:20261025T010000
END:STANDARD
END:VTIMEZONE
BEGIN:VEVENT
DTSTART;TZID=Europe/Paris:20260421T190000
DTEND;TZID=Europe/Paris:20260421T200000
DTSTAMP:20260423T032109
CREATED:20260412T122011Z
LAST-MODIFIED:20260412T122634Z
UID:56887-1776798000-1776801600@hac63.nl
SUMMARY:Opening Wedstrijdsecretariaat
DESCRIPTION:Het is zover: ons prachtige nieuwe wedstrijdsecretariaat is klaar voor de start! Dit hebben we samen bereikt\, en dat gaan we op dinsdag 21 april op een unieke manier vieren. Geen saai lintje doorknippen\, maar een opening met de snelheid en dynamiek die bij HAC’63 past. \nOm 19 uur starten we met een bijzondere estafette over de baan. Vertegenwoordigers van álle groepen binnen onze club – van de jongste pupillen tot de masters – passeren diverse atletiekonderdelen en hindernissen. Terwijl de ‘hordes’ worden genomen\, vertellen we het verhaal van de totstandkoming van dit gebouw. De finishlijn? Die ligt bij de voordeur van het nieuwe secretariaat. Daar zal het officiële openingsmoment plaatsvinden (door wie? Dat blijft nog even een verrassing!). \nNa het officiële gedeelte nodigen we alle sponsoren\, medewerkers\, vrijwilligers en atleten uit om het resultaat van dichtbij te bewonderen. \nTot de 21e op de baan!
URL:https://hac63.nl/wordpress/event/opening-wedstrijdsecretariaat/
ATTACH;FMTTYPE=image/jpeg:https://hac63.nl/wordpress/wp-content/uploads/2026/04/c.jpg
END:VEVENT
END:VCALENDAR